BEGIN:VCALENDAR
VERSION:2.0
PRODID:-//Osterhout Free Library - ECPv6.15.20//NONSGML v1.0//EN
CALSCALE:GREGORIAN
METHOD:PUBLISH
X-ORIGINAL-URL:https://osterhout.info
X-WR-CALDESC:Events for Osterhout Free Library
REFRESH-INTERVAL;VALUE=DURATION:PT1H
X-Robots-Tag:noindex
X-PUBLISHED-TTL:PT1H
BEGIN:VTIMEZONE
TZID:America/New_York
BEGIN:DAYLIGHT
TZOFFSETFROM:-0500
TZOFFSETTO:-0400
TZNAME:EDT
DTSTART:20240310T070000
END:DAYLIGHT
BEGIN:STANDARD
TZOFFSETFROM:-0400
TZOFFSETTO:-0500
TZNAME:EST
DTSTART:20241103T060000
END:STANDARD
BEGIN:DAYLIGHT
TZOFFSETFROM:-0500
TZOFFSETTO:-0400
TZNAME:EDT
DTSTART:20250309T070000
END:DAYLIGHT
BEGIN:STANDARD
TZOFFSETFROM:-0400
TZOFFSETTO:-0500
TZNAME:EST
DTSTART:20251102T060000
END:STANDARD
BEGIN:DAYLIGHT
TZOFFSETFROM:-0500
TZOFFSETTO:-0400
TZNAME:EDT
DTSTART:20260308T070000
END:DAYLIGHT
BEGIN:STANDARD
TZOFFSETFROM:-0400
TZOFFSETTO:-0500
TZNAME:EST
DTSTART:20261101T060000
END:STANDARD
BEGIN:DAYLIGHT
TZOFFSETFROM:-0500
TZOFFSETTO:-0400
TZNAME:EDT
DTSTART:20270314T070000
END:DAYLIGHT
BEGIN:STANDARD
TZOFFSETFROM:-0400
TZOFFSETTO:-0500
TZNAME:EST
DTSTART:20271107T060000
END:STANDARD
END:VTIMEZONE
BEGIN:VEVENT
DTSTART;TZID=America/New_York:20260425T083000
DTEND;TZID=America/New_York:20260425T153000
DTSTAMP:20260425T233757
CREATED:20260413T180601Z
LAST-MODIFIED:20260413T192648Z
UID:21044-1777105800-1777131000@osterhout.info
SUMMARY:Book Shop BOGO
DESCRIPTION:Buy one book\, CD or DVD and get one free in the Friends of the Osterhout Book Shop! Sale valid the last Saturday of each month. \nAll Book Shop inventory included. \n 
URL:https://osterhout.info/event/book-shop-bogo-14/
LOCATION:Osterhout Free Library – Central Branch\, 71 South Franklin Street\, Wilkes-Barre\, PA\, 18701\, United States
CATEGORIES:For All Ages
END:VEVENT
BEGIN:VEVENT
DTSTART;TZID=America/New_York:20260425T110000
DTEND;TZID=America/New_York:20260425T140000
DTSTAMP:20260425T233757
CREATED:20260402T191322Z
LAST-MODIFIED:20260402T191322Z
UID:20991-1777114800-1777125600@osterhout.info
SUMMARY:Knotty Brunch
DESCRIPTION:Knitters and crocheters of all skill levels are welcome to join the Knotty Brunch\, a club where you can share tips and tricks\, swap supplies\, and make new friends while working on your projects together! \nThis month’s theme is Handmade Hugs. We will have baby hat and blanket patterns available\, but any project you’re working on is welcome! \nWe will have a collection box for handmade items to donate to Geisinger’s maternity ward. \nThis is a free event\, and there will be snacks provided. For ages 10+. \nTo register\, please call/visit the Information Services Desk or click the link below. \nPhone: 570-821-1959 \nOnline: Click here!
URL:https://osterhout.info/event/knotty-brunch/
LOCATION:PA
CATEGORIES:Adults
END:VEVENT
BEGIN:VEVENT
DTSTART;TZID=America/New_York:20260427T173000
DTEND;TZID=America/New_York:20260427T173000
DTSTAMP:20260425T233757
CREATED:20260330T175450Z
LAST-MODIFIED:20260330T175450Z
UID:20958-1777311000-1777311000@osterhout.info
SUMMARY:Kidz Club: Tea Party
DESCRIPTION:Kids ages 8-12 are invited to the Children’s Wing on Monday\, April 27th at 5:30PM for a tea party! Enjoy tea and cookies\, while watching a movie! \nRegistration for this event is required\, as space is limited. To register\, please call 570-823-0156\, ext 217. \nWe hope to see you there!
URL:https://osterhout.info/event/kidz-club-tea-party/
LOCATION:PA
CATEGORIES:Youth
END:VEVENT
BEGIN:VEVENT
DTSTART;TZID=America/New_York:20250604T103000
DTEND;TZID=America/New_York:20250604T103000
DTSTAMP:20260425T233757
CREATED:20250603T174759Z
LAST-MODIFIED:20250904T134552Z
UID:19865-1749033000-1749033000@osterhout.info
SUMMARY:Fall Storytime!
DESCRIPTION:Fall Storytime!  Wednesdays at 10:30 a.m. No need to register\, just stop in for stories\, songs & a fun craft! \nFor more information\, please call 570-823-0156\, ext. 217. We hope to see you there!
URL:https://osterhout.info/event/summer-storytime-2/
LOCATION:Osterhout Free Library – Central Branch\, 71 South Franklin Street\, Wilkes-Barre\, PA\, 18701\, United States
CATEGORIES:Youth
END:VEVENT
BEGIN:VEVENT
DTSTART;TZID=America/New_York:20260429T170000
DTEND;TZID=America/New_York:20260429T190000
DTSTAMP:20260425T233757
CREATED:20260307T183225Z
LAST-MODIFIED:20260307T183225Z
UID:20881-1777482000-1777489200@osterhout.info
SUMMARY:Game Night!
DESCRIPTION:GAME NIGHT!\nReady to level up your evening? Join us for Game Night at the Osterhout Free Library! 🎮🍕 \nTeens and Young Adults are invited to spend the evening playing games\, hanging out with friends\, and enjoying FREE pizza and drinks. Whether you’re competitive\, cooperative\, or just there for the snacks\, it’s the perfect way to unwind and have fun at the library. \n📅 Wednesday\, April 29\, 2026⏰ 5:00 – 7:00 PM📍 3rd Floor Meeting Room – Osterhout Free Library \n👥 For Teens & Young Adults📝 Registration Required. Register online at: https://osterhout.info/program-registration/
URL:https://osterhout.info/event/game-night-2/
LOCATION:Osterhout Free Library – Central Branch\, 71 South Franklin Street\, Wilkes-Barre\, PA\, 18701\, United States
CATEGORIES:Teens
ORGANIZER;CN="Osterhout Free Library Teens":MAILTO:oflteens@luzernelibraries.org
END:VEVENT
END:VCALENDAR