BEGIN:VCALENDAR
VERSION:2.0
PRODID:-//Osterhout Free Library - ECPv6.15.20//NONSGML v1.0//EN
CALSCALE:GREGORIAN
METHOD:PUBLISH
X-WR-CALNAME:Osterhout Free Library
X-ORIGINAL-URL:https://osterhout.info
X-WR-CALDESC:Events for Osterhout Free Library
REFRESH-INTERVAL;VALUE=DURATION:PT1H
X-Robots-Tag:noindex
X-PUBLISHED-TTL:PT1H
BEGIN:VTIMEZONE
TZID:America/New_York
BEGIN:DAYLIGHT
TZOFFSETFROM:-0500
TZOFFSETTO:-0400
TZNAME:EDT
DTSTART:20150308T070000
END:DAYLIGHT
BEGIN:STANDARD
TZOFFSETFROM:-0400
TZOFFSETTO:-0500
TZNAME:EST
DTSTART:20151101T060000
END:STANDARD
BEGIN:DAYLIGHT
TZOFFSETFROM:-0500
TZOFFSETTO:-0400
TZNAME:EDT
DTSTART:20160313T070000
END:DAYLIGHT
BEGIN:STANDARD
TZOFFSETFROM:-0400
TZOFFSETTO:-0500
TZNAME:EST
DTSTART:20161106T060000
END:STANDARD
BEGIN:DAYLIGHT
TZOFFSETFROM:-0500
TZOFFSETTO:-0400
TZNAME:EDT
DTSTART:20170312T070000
END:DAYLIGHT
BEGIN:STANDARD
TZOFFSETFROM:-0400
TZOFFSETTO:-0500
TZNAME:EST
DTSTART:20171105T060000
END:STANDARD
BEGIN:DAYLIGHT
TZOFFSETFROM:-0500
TZOFFSETTO:-0400
TZNAME:EDT
DTSTART:20180311T070000
END:DAYLIGHT
BEGIN:STANDARD
TZOFFSETFROM:-0400
TZOFFSETTO:-0500
TZNAME:EST
DTSTART:20181104T060000
END:STANDARD
END:VTIMEZONE
BEGIN:VEVENT
DTSTART;TZID=America/New_York:20170519T170000
DTEND;TZID=America/New_York:20170519T200000
DTSTAMP:20260424T074834
CREATED:20170503T030635Z
LAST-MODIFIED:20170503T030635Z
UID:6846-1495213200-1495224000@osterhout.info
SUMMARY:Third Friday Art Walk - Osterhout Library Venue
DESCRIPTION:Third Friday Wilkes-Barre provides a variety of sights and sounds for the senses. Enjoy original artwork and music\, and meet artists\, musicians and friends in a casual\, family friendly atmosphere at participating galleries and businesses each month. The library participates each month with featured authors\, musicians and artists.
URL:https://osterhout.info/event/third-friday-art-walk-osterhout-library-venue/
LOCATION:Osterhout Free Library – Central Branch\, 71 South Franklin Street\, Wilkes-Barre\, PA\, 18701\, United States
CATEGORIES:For All Ages
END:VEVENT
BEGIN:VEVENT
DTSTART;TZID=America/New_York:20170104T180000
DTEND;TZID=America/New_York:20170104T193000
DTSTAMP:20260424T074834
CREATED:20160421T155739Z
LAST-MODIFIED:20171021T175545Z
UID:3098-1483552800-1483558200@osterhout.info
SUMMARY:Teen Night
DESCRIPTION:Every Wednesday night from 6-7:30pm in the Reading Room\, we have a Teen Night event. Come enjoy each week’s offering\, eat food\, make new friends\, and relax. See you there!
URL:https://osterhout.info/event/teen-night/
LOCATION:Osterhout Free Library – Central Branch\, 71 South Franklin Street\, Wilkes-Barre\, PA\, 18701\, United States
CATEGORIES:Teens
ORGANIZER;CN="Osterhout Free Library Teens":MAILTO:oflteens@luzernelibraries.org
END:VEVENT
BEGIN:VEVENT
DTSTART;TZID=America/New_York:20160801T180000
DTEND;TZID=America/New_York:20160801T193000
DTSTAMP:20260424T074834
CREATED:20160718T192231Z
LAST-MODIFIED:20160718T193547Z
UID:4542-1470074400-1470079800@osterhout.info
SUMMARY:Artist's Club
DESCRIPTION:Join artist’s of all skill levels to share ideas and work on your own projects. Light refreshments.
URL:https://osterhout.info/event/artists-club/
LOCATION:PA
CATEGORIES:Adults
END:VEVENT
BEGIN:VEVENT
DTSTART;TZID=America/New_York:20170719T183000
DTEND;TZID=America/New_York:20170719T193000
DTSTAMP:20260424T074834
CREATED:20170715T151739Z
LAST-MODIFIED:20170715T151739Z
UID:7486-1500489000-1500492600@osterhout.info
SUMMARY:Kindness Rocks
DESCRIPTION:Join us Wednesday  July 19th from 6:30-7:30PM . Paint rocks and be a part of The Kindness Rocks project. \nCall 570-823-0156\, ext 217 to register.
URL:https://osterhout.info/event/kindness-rocks/
LOCATION:Osterhout Free Library – Central Branch\, 71 South Franklin Street\, Wilkes-Barre\, PA\, 18701\, United States
CATEGORIES:Youth
END:VEVENT
BEGIN:VEVENT
DTSTART;TZID=America/New_York:20170119T183000
DTEND;TZID=America/New_York:20170119T200000
DTSTAMP:20260424T074834
CREATED:20161228T213923Z
LAST-MODIFIED:20200813T133052Z
UID:5622-1484850600-1484856000@osterhout.info
SUMMARY:Franklin Street Sleuths Book Discussion Group
DESCRIPTION:Light refreshments
URL:https://osterhout.info/event/franklin-street-sleuths-book-discussion-group/
LOCATION:Osterhout Free Library – Central Branch\, 71 South Franklin Street\, Wilkes-Barre\, PA\, 18701\, United States
CATEGORIES:Adults
END:VEVENT
BEGIN:VEVENT
DTSTART;TZID=America/New_York:20170713T100000
DTEND;TZID=America/New_York:20170713T110000
DTSTAMP:20260424T074834
CREATED:20170710T193208Z
LAST-MODIFIED:20170710T193332Z
UID:7383-1499940000-1499943600@osterhout.info
SUMMARY:Story Time for 2 to 4 year-olds @North
DESCRIPTION:Storytime for ages 2 through 4 at the North Branch at 28 Oliver Street. 10 am to 11am
URL:https://osterhout.info/event/story-time-2-4-year-olds/
LOCATION:Osterhout Free Library – North Branch\, 28 Oliver Street\, Wilkes-Barre\, PA\, 18705\, United States
CATEGORIES:Branches
ORGANIZER;CN="Osterhout Free Library%2C North Branch":MAILTO:jaustin@luzernelibraries.org
END:VEVENT
BEGIN:VEVENT
DTSTART;TZID=America/New_York:20170706T140000
DTEND;TZID=America/New_York:20170706T150000
DTSTAMP:20260424T074834
CREATED:20170628T144832Z
LAST-MODIFIED:20170628T144832Z
UID:7319-1499349600-1499353200@osterhout.info
SUMMARY:Laptotts
DESCRIPTION:Ages 3-5\, space limited . please call 570-823-0156\, ext 217 to register!
URL:https://osterhout.info/event/laptotts-5/
LOCATION:Osterhout Free Library – Central Branch\, 71 South Franklin Street\, Wilkes-Barre\, PA\, 18701\, United States
CATEGORIES:Youth
END:VEVENT
BEGIN:VEVENT
DTSTART;TZID=America/New_York:20160801T180000
DTEND;TZID=America/New_York:20160801T193000
DTSTAMP:20260424T074834
CREATED:20160718T192231Z
LAST-MODIFIED:20160718T193547Z
UID:4542-1470074400-1470079800@osterhout.info
SUMMARY:Artist's Club
DESCRIPTION:Join artist’s of all skill levels to share ideas and work on your own projects. Light refreshments.
URL:https://osterhout.info/event/artists-club/
LOCATION:PA
CATEGORIES:Adults
END:VEVENT
BEGIN:VEVENT
DTSTART;TZID=America/New_York:20170720T183000
DTEND;TZID=America/New_York:20170720T200000
DTSTAMP:20260424T074834
CREATED:20161228T213923Z
LAST-MODIFIED:20170620T173311Z
UID:5629-1500575400-1500580800@osterhout.info
SUMMARY:Franklin Street Sleuths Book Discussion Group
DESCRIPTION:Join us for a lively discussion of Shiver by Lisa Jackson. Light refreshments will be served.
URL:https://osterhout.info/event/franklin-street-sleuths-book-discussion-group-2017-07-20/
LOCATION:Osterhout Free Library – Central Branch\, 71 South Franklin Street\, Wilkes-Barre\, PA\, 18701\, United States
CATEGORIES:Adults
END:VEVENT
BEGIN:VEVENT
DTSTART;TZID=America/New_York:20170721T100000
DTEND;TZID=America/New_York:20170721T113000
DTSTAMP:20260424T074834
CREATED:20170713T154802Z
LAST-MODIFIED:20170713T154802Z
UID:7471-1500631200-1500636600@osterhout.info
SUMMARY:Farmers Market Sampler at South Branch
DESCRIPTION:
URL:https://osterhout.info/event/farmers-market-sampler-south-branch-2/
LOCATION:Osterhout Free Library – South Branch\, 2 Airy Street\, Wilkes Barre\, PA\, 18702\, United States
CATEGORIES:Branches
END:VEVENT
BEGIN:VEVENT
DTSTART;TZID=America/New_York:20170721T150000
DTEND;TZID=America/New_York:20170721T190000
DTSTAMP:20260424T074834
CREATED:20170719T184539Z
LAST-MODIFIED:20170719T184539Z
UID:7787-1500649200-1500663600@osterhout.info
SUMMARY:Family Fun Day  Extravaganza!
DESCRIPTION:Join us Friday\, July  21\, 2017  anytime between 3:00PM-7:00PM . Free! Fun for the Whole Family! No need to register!
URL:https://osterhout.info/event/family-fun-day-extravaganza/
LOCATION:Osterhout Free Library – Central Branch\, 71 South Franklin Street\, Wilkes-Barre\, PA\, 18701\, United States
CATEGORIES:Youth
END:VEVENT
BEGIN:VEVENT
DTSTART;TZID=America/New_York:20160801T180000
DTEND;TZID=America/New_York:20160801T193000
DTSTAMP:20260424T074834
CREATED:20160718T192231Z
LAST-MODIFIED:20160718T193547Z
UID:4542-1470074400-1470079800@osterhout.info
SUMMARY:Artist's Club
DESCRIPTION:Join artist’s of all skill levels to share ideas and work on your own projects. Light refreshments.
URL:https://osterhout.info/event/artists-club/
LOCATION:PA
CATEGORIES:Adults
END:VEVENT
BEGIN:VEVENT
DTSTART;TZID=America/New_York:20170701T100000
DTEND;TZID=America/New_York:20170701T140000
DTSTAMP:20260424T074834
CREATED:20170622T164001Z
LAST-MODIFIED:20170622T164001Z
UID:7262-1498903200-1498917600@osterhout.info
SUMMARY:Summer Hours
DESCRIPTION:Saturday summer hours are 10 am – 2 pm
URL:https://osterhout.info/event/summer-hours/
LOCATION:Osterhout Free Library – Central Branch\, 71 South Franklin Street\, Wilkes-Barre\, PA\, 18701\, United States
END:VEVENT
BEGIN:VEVENT
DTSTART;TZID=America/New_York:20160801T180000
DTEND;TZID=America/New_York:20160801T193000
DTSTAMP:20260424T074834
CREATED:20160718T192231Z
LAST-MODIFIED:20160718T193547Z
UID:4542-1470074400-1470079800@osterhout.info
SUMMARY:Artist's Club
DESCRIPTION:Join artist’s of all skill levels to share ideas and work on your own projects. Light refreshments.
URL:https://osterhout.info/event/artists-club/
LOCATION:PA
CATEGORIES:Adults
END:VEVENT
BEGIN:VEVENT
DTSTART;TZID=America/New_York:20160801T180000
DTEND;TZID=America/New_York:20160801T193000
DTSTAMP:20260424T074834
CREATED:20160718T192231Z
LAST-MODIFIED:20160718T193547Z
UID:4542-1470074400-1470079800@osterhout.info
SUMMARY:Artist's Club
DESCRIPTION:Join artist’s of all skill levels to share ideas and work on your own projects. Light refreshments.
URL:https://osterhout.info/event/artists-club/
LOCATION:PA
CATEGORIES:Adults
END:VEVENT
BEGIN:VEVENT
DTSTART;TZID=America/New_York:20170724T100000
DTEND;TZID=America/New_York:20170724T113000
DTSTAMP:20260424T074834
CREATED:20170713T154942Z
LAST-MODIFIED:20170713T154956Z
UID:7473-1500890400-1500895800@osterhout.info
SUMMARY:Let's Make Slime! At South Branch
DESCRIPTION:
URL:https://osterhout.info/event/lets-make-slime-south-branch/
LOCATION:Osterhout Free Library – South Branch\, 2 Airy Street\, Wilkes Barre\, PA\, 18702\, United States
CATEGORIES:Branches
END:VEVENT
BEGIN:VEVENT
DTSTART;TZID=America/New_York:20160801T180000
DTEND;TZID=America/New_York:20160801T193000
DTSTAMP:20260424T074834
CREATED:20160718T192231Z
LAST-MODIFIED:20160718T193547Z
UID:4542-1470074400-1470079800@osterhout.info
SUMMARY:Artist's Club
DESCRIPTION:Join artist’s of all skill levels to share ideas and work on your own projects. Light refreshments.
URL:https://osterhout.info/event/artists-club/
LOCATION:PA
CATEGORIES:Adults
END:VEVENT
BEGIN:VEVENT
DTSTART;TZID=America/New_York:20170717T183000
DTEND;TZID=America/New_York:20170717T190000
DTSTAMP:20260424T074834
CREATED:20170610T174834Z
LAST-MODIFIED:20170719T141938Z
UID:7155-1500316200-1500318000@osterhout.info
SUMMARY:Toddler Storytime
DESCRIPTION:Call 570-823-0156\, Ext 217 to register anytime after Monday\, July 10th . Toddler Storytimes ( ages 2- 3 1/2) will be \nMondays July 17th-Aug 7th 6:30PM-7:00PM\,  Tuesdays July 18th- Aug. 8th  10:00AM-10:30AM OR 11:00AM-11:30AM
URL:https://osterhout.info/event/toddler-storytime-16/
LOCATION:Osterhout Free Library – Central Branch\, 71 South Franklin Street\, Wilkes-Barre\, PA\, 18701\, United States
CATEGORIES:Youth
END:VEVENT
BEGIN:VEVENT
DTSTART;TZID=America/New_York:20170718T100000
DTEND;TZID=America/New_York:20170718T103000
DTSTAMP:20260424T074834
CREATED:20170610T175008Z
LAST-MODIFIED:20170719T142056Z
UID:7163-1500372000-1500373800@osterhout.info
SUMMARY:Toddler Storytime
DESCRIPTION:Call 570-823-0156\, Ext 217 to register anytime after Monday\, July 10th . Toddler Storytimes ( ages 2- 3 1/2) will be \nMondays July 17th-Aug 7th 6:30PM-7:00PM\,  Tuesdays July 18th- Aug. 8th  10:00AM-10:30AM OR 11:00AM-11:30AM
URL:https://osterhout.info/event/toddler-storytime-17/
LOCATION:Osterhout Free Library – Central Branch\, 71 South Franklin Street\, Wilkes-Barre\, PA\, 18701\, United States
CATEGORIES:Youth
END:VEVENT
BEGIN:VEVENT
DTSTART;TZID=America/New_York:20170725T100000
DTEND;TZID=America/New_York:20170725T113000
DTSTAMP:20260424T074834
CREATED:20170713T155039Z
LAST-MODIFIED:20170713T155039Z
UID:7475-1500976800-1500982200@osterhout.info
SUMMARY:Reef Resident Word Search at South Branch
DESCRIPTION:
URL:https://osterhout.info/event/reef-resident-word-search-south-branch/
LOCATION:Osterhout Free Library – South Branch\, 2 Airy Street\, Wilkes Barre\, PA\, 18702\, United States
CATEGORIES:Branches
END:VEVENT
BEGIN:VEVENT
DTSTART;TZID=America/New_York:20170718T110000
DTEND;TZID=America/New_York:20170718T113000
DTSTAMP:20260424T074834
CREATED:20170610T175245Z
LAST-MODIFIED:20170719T142336Z
UID:7168-1500375600-1500377400@osterhout.info
SUMMARY:Toddler Storytime
DESCRIPTION:Call 570-823-0156\, Ext 217 to register anytime after Monday\, July 10th . Toddler Storytimes ( ages 2- 3 1/2) will be \nMondays July 17th-Aug 7th 6:30PM-7:00PM\,  Tuesdays July 18th- Aug. 8th  10:00AM-10:30AM OR 11:00AM-11:30AM
URL:https://osterhout.info/event/toddler-storytime-18/
LOCATION:Osterhout Free Library – Central Branch\, 71 South Franklin Street\, Wilkes-Barre\, PA\, 18701\, United States
CATEGORIES:Youth
END:VEVENT
BEGIN:VEVENT
DTSTART;TZID=America/New_York:20160801T180000
DTEND;TZID=America/New_York:20160801T193000
DTSTAMP:20260424T074834
CREATED:20160718T192231Z
LAST-MODIFIED:20160718T193547Z
UID:4542-1470074400-1470079800@osterhout.info
SUMMARY:Artist's Club
DESCRIPTION:Join artist’s of all skill levels to share ideas and work on your own projects. Light refreshments.
URL:https://osterhout.info/event/artists-club/
LOCATION:PA
CATEGORIES:Adults
END:VEVENT
BEGIN:VEVENT
DTSTART;TZID=America/New_York:20170725T183000
DTEND;TZID=America/New_York:20170725T193000
DTSTAMP:20260424T074834
CREATED:20170620T173451Z
LAST-MODIFIED:20170620T173451Z
UID:7223-1501007400-1501011000@osterhout.info
SUMMARY:Feel Good About Me
DESCRIPTION:Learn how your thoughts control your actions at this program for adults and teens. Light refreshments will be served.
URL:https://osterhout.info/event/feel-good-about-me/
LOCATION:Osterhout Free Library – Central Branch\, 71 South Franklin Street\, Wilkes-Barre\, PA\, 18701\, United States
CATEGORIES:Adults
END:VEVENT
BEGIN:VEVENT
DTSTART;TZID=America/New_York:20170726T100000
DTEND;TZID=America/New_York:20170726T110000
DTSTAMP:20260424T074834
CREATED:20170717T201620Z
LAST-MODIFIED:20170718T152816Z
UID:7522-1501063200-1501066800@osterhout.info
SUMMARY:Reading with Little Tykes @ Plains
DESCRIPTION:Reading with Little Tykes now on Wednesday mornings from 10:00 am to 11:00 am at the Plains Branch! \n126 North Main Street in Plains. \nOpen to kids from Kindergarten on down.
URL:https://osterhout.info/event/reading-little-tykes-plains-2017-07-26/
LOCATION:Osterhout Free Library – Plains Branch\, 126 North Main Street\, Plains\, PA\, 18705\, United States
CATEGORIES:Branches
END:VEVENT
BEGIN:VEVENT
DTSTART;TZID=America/New_York:20170104T180000
DTEND;TZID=America/New_York:20170104T193000
DTSTAMP:20260424T074834
CREATED:20160421T155739Z
LAST-MODIFIED:20171021T175545Z
UID:3098-1483552800-1483558200@osterhout.info
SUMMARY:Teen Night
DESCRIPTION:Every Wednesday night from 6-7:30pm in the Reading Room\, we have a Teen Night event. Come enjoy each week’s offering\, eat food\, make new friends\, and relax. See you there!
URL:https://osterhout.info/event/teen-night/
LOCATION:Osterhout Free Library – Central Branch\, 71 South Franklin Street\, Wilkes-Barre\, PA\, 18701\, United States
CATEGORIES:Teens
ORGANIZER;CN="Osterhout Free Library Teens":MAILTO:oflteens@luzernelibraries.org
END:VEVENT
BEGIN:VEVENT
DTSTART;TZID=America/New_York:20160801T180000
DTEND;TZID=America/New_York:20160801T193000
DTSTAMP:20260424T074834
CREATED:20160718T192231Z
LAST-MODIFIED:20160718T193547Z
UID:4542-1470074400-1470079800@osterhout.info
SUMMARY:Artist's Club
DESCRIPTION:Join artist’s of all skill levels to share ideas and work on your own projects. Light refreshments.
URL:https://osterhout.info/event/artists-club/
LOCATION:PA
CATEGORIES:Adults
END:VEVENT
BEGIN:VEVENT
DTSTART;TZID=America/New_York:20170126T180000
DTEND;TZID=America/New_York:20170126T193000
DTSTAMP:20260424T074834
CREATED:20161228T214141Z
LAST-MODIFIED:20171021T180324Z
UID:5647-1485453600-1485459000@osterhout.info
SUMMARY:Coloring for Adults
DESCRIPTION:Experience the relaxing art of coloring . Use our supplies or bring your own. Light refreshments.
URL:https://osterhout.info/event/coloring-for-adults-2/
LOCATION:Osterhout Free Library – Central Branch\, 71 South Franklin Street\, Wilkes-Barre\, PA\, 18701\, United States
CATEGORIES:Adults
END:VEVENT
BEGIN:VEVENT
DTSTART;TZID=America/New_York:20170726T183000
DTEND;TZID=America/New_York:20170726T193000
DTSTAMP:20260424T074834
CREATED:20170721T232948Z
LAST-MODIFIED:20170721T232948Z
UID:7804-1501093800-1501097400@osterhout.info
SUMMARY:Exploring Light Family Fun Night
DESCRIPTION:Join us Wednesday\, July 26\, 2017  for exploration of light.  Learn about light reflection while you build your own kaleidoscope and conduct experiments.
URL:https://osterhout.info/event/exploring-light-family-fun-night/
LOCATION:Osterhout Free Library – Central Branch\, 71 South Franklin Street\, Wilkes-Barre\, PA\, 18701\, United States
CATEGORIES:Youth
END:VEVENT
BEGIN:VEVENT
DTSTART;TZID=America/New_York:20170727T100000
DTEND;TZID=America/New_York:20170727T110000
DTSTAMP:20260424T074834
CREATED:20170719T185132Z
LAST-MODIFIED:20170719T185132Z
UID:7790-1501149600-1501153200@osterhout.info
SUMMARY:Childrens Day @ the Farmer's Market
DESCRIPTION:Join us  for storytelling at the Farmers Market on Public Square from 10:00AM-11:00AM.
URL:https://osterhout.info/event/childrens-day-farmers-market/
LOCATION:Osterhout Free Library – Central Branch\, 71 South Franklin Street\, Wilkes-Barre\, PA\, 18701\, United States
CATEGORIES:Youth
END:VEVENT
BEGIN:VEVENT
DTSTART;TZID=America/New_York:20170727T130000
DTEND;TZID=America/New_York:20170727T140000
DTSTAMP:20260424T074834
CREATED:20170719T185555Z
LAST-MODIFIED:20170721T230526Z
UID:7793-1501160400-1501164000@osterhout.info
SUMMARY:Building with Home Depot
DESCRIPTION:Join us as we build  our own creation  with a visit from Home Depot.  Space is limited so you must call to  register\, 570-823-0156\, ext 217.
URL:https://osterhout.info/event/building-home-depot/
LOCATION:Osterhout Free Library – Central Branch\, 71 South Franklin Street\, Wilkes-Barre\, PA\, 18701\, United States
CATEGORIES:Youth
END:VEVENT
END:VCALENDAR