BEGIN:VCALENDAR
VERSION:2.0
PRODID:-//Osterhout Free Library - ECPv6.15.20//NONSGML v1.0//EN
CALSCALE:GREGORIAN
METHOD:PUBLISH
X-WR-CALNAME:Osterhout Free Library
X-ORIGINAL-URL:https://osterhout.info
X-WR-CALDESC:Events for Osterhout Free Library
REFRESH-INTERVAL;VALUE=DURATION:PT1H
X-Robots-Tag:noindex
X-PUBLISHED-TTL:PT1H
BEGIN:VTIMEZONE
TZID:America/New_York
BEGIN:DAYLIGHT
TZOFFSETFROM:-0500
TZOFFSETTO:-0400
TZNAME:EDT
DTSTART:20150308T070000
END:DAYLIGHT
BEGIN:STANDARD
TZOFFSETFROM:-0400
TZOFFSETTO:-0500
TZNAME:EST
DTSTART:20151101T060000
END:STANDARD
BEGIN:DAYLIGHT
TZOFFSETFROM:-0500
TZOFFSETTO:-0400
TZNAME:EDT
DTSTART:20160313T070000
END:DAYLIGHT
BEGIN:STANDARD
TZOFFSETFROM:-0400
TZOFFSETTO:-0500
TZNAME:EST
DTSTART:20161106T060000
END:STANDARD
BEGIN:DAYLIGHT
TZOFFSETFROM:-0500
TZOFFSETTO:-0400
TZNAME:EDT
DTSTART:20170312T070000
END:DAYLIGHT
BEGIN:STANDARD
TZOFFSETFROM:-0400
TZOFFSETTO:-0500
TZNAME:EST
DTSTART:20171105T060000
END:STANDARD
BEGIN:DAYLIGHT
TZOFFSETFROM:-0500
TZOFFSETTO:-0400
TZNAME:EDT
DTSTART:20180311T070000
END:DAYLIGHT
BEGIN:STANDARD
TZOFFSETFROM:-0400
TZOFFSETTO:-0500
TZNAME:EST
DTSTART:20181104T060000
END:STANDARD
END:VTIMEZONE
BEGIN:VEVENT
DTSTART;TZID=America/New_York:20160801T180000
DTEND;TZID=America/New_York:20160801T193000
DTSTAMP:20260424T110800
CREATED:20160718T192231Z
LAST-MODIFIED:20160718T193547Z
UID:4542-1470074400-1470079800@osterhout.info
SUMMARY:Artist's Club
DESCRIPTION:Join artist’s of all skill levels to share ideas and work on your own projects. Light refreshments.
URL:https://osterhout.info/event/artists-club/
LOCATION:PA
CATEGORIES:Adults
END:VEVENT
BEGIN:VEVENT
DTSTART;TZID=America/New_York:20170807T100000
DTEND;TZID=America/New_York:20170807T233000
DTSTAMP:20260424T110800
CREATED:20170804T181955Z
LAST-MODIFIED:20170804T181955Z
UID:7910-1502100000-1502148600@osterhout.info
SUMMARY:Self-Portraits at the South Branch Library
DESCRIPTION:Make your own self-portraits at the South Branch!
URL:https://osterhout.info/event/self-portraits-south-branch-library/
LOCATION:Osterhout Free Library – South Branch\, 2 Airy Street\, Wilkes Barre\, PA\, 18702\, United States
CATEGORIES:Branches
END:VEVENT
BEGIN:VEVENT
DTSTART;TZID=America/New_York:20160801T180000
DTEND;TZID=America/New_York:20160801T193000
DTSTAMP:20260424T110801
CREATED:20160718T192231Z
LAST-MODIFIED:20160718T193547Z
UID:4542-1470074400-1470079800@osterhout.info
SUMMARY:Artist's Club
DESCRIPTION:Join artist’s of all skill levels to share ideas and work on your own projects. Light refreshments.
URL:https://osterhout.info/event/artists-club/
LOCATION:PA
CATEGORIES:Adults
END:VEVENT
BEGIN:VEVENT
DTSTART;TZID=America/New_York:20170717T183000
DTEND;TZID=America/New_York:20170717T190000
DTSTAMP:20260424T110801
CREATED:20170610T174834Z
LAST-MODIFIED:20170719T141938Z
UID:7155-1500316200-1500318000@osterhout.info
SUMMARY:Toddler Storytime
DESCRIPTION:Call 570-823-0156\, Ext 217 to register anytime after Monday\, July 10th . Toddler Storytimes ( ages 2- 3 1/2) will be \nMondays July 17th-Aug 7th 6:30PM-7:00PM\,  Tuesdays July 18th- Aug. 8th  10:00AM-10:30AM OR 11:00AM-11:30AM
URL:https://osterhout.info/event/toddler-storytime-16/
LOCATION:Osterhout Free Library – Central Branch\, 71 South Franklin Street\, Wilkes-Barre\, PA\, 18701\, United States
CATEGORIES:Youth
END:VEVENT
BEGIN:VEVENT
DTSTART;TZID=America/New_York:20170718T100000
DTEND;TZID=America/New_York:20170718T103000
DTSTAMP:20260424T110801
CREATED:20170610T175008Z
LAST-MODIFIED:20170719T142056Z
UID:7163-1500372000-1500373800@osterhout.info
SUMMARY:Toddler Storytime
DESCRIPTION:Call 570-823-0156\, Ext 217 to register anytime after Monday\, July 10th . Toddler Storytimes ( ages 2- 3 1/2) will be \nMondays July 17th-Aug 7th 6:30PM-7:00PM\,  Tuesdays July 18th- Aug. 8th  10:00AM-10:30AM OR 11:00AM-11:30AM
URL:https://osterhout.info/event/toddler-storytime-17/
LOCATION:Osterhout Free Library – Central Branch\, 71 South Franklin Street\, Wilkes-Barre\, PA\, 18701\, United States
CATEGORIES:Youth
END:VEVENT
BEGIN:VEVENT
DTSTART;TZID=America/New_York:20170808T100000
DTEND;TZID=America/New_York:20170808T113000
DTSTAMP:20260424T110801
CREATED:20170804T182252Z
LAST-MODIFIED:20170804T182252Z
UID:7913-1502186400-1502191800@osterhout.info
SUMMARY:Making Thaumatropes at the South Branch Library
DESCRIPTION:Create a cool optical illusion by making your thaumatropes!
URL:https://osterhout.info/event/making-thaumatropes-south-branch-library/
LOCATION:Osterhout Free Library – South Branch\, 2 Airy Street\, Wilkes Barre\, PA\, 18702\, United States
CATEGORIES:Branches
END:VEVENT
BEGIN:VEVENT
DTSTART;TZID=America/New_York:20170808T103000
DTEND;TZID=America/New_York:20170808T113000
DTSTAMP:20260424T110801
CREATED:20170710T195223Z
LAST-MODIFIED:20170715T141549Z
UID:7399-1502188200-1502191800@osterhout.info
SUMMARY:Summer Reading @North Branch!
DESCRIPTION:The kids’ summer reading program at North Branch is from 10:30 to 11:30 on this day! \nMake a healthy snack and play some games! \n28 Oliver Street (in Parsons) 570-824-1862
URL:https://osterhout.info/event/summer-reading-north-branch-2017-09-07/
LOCATION:Osterhout Free Library – North Branch\, 28 Oliver Street\, Wilkes-Barre\, PA\, 18705\, United States
CATEGORIES:Branches
ORGANIZER;CN="Osterhout Free Library%2C North Branch":MAILTO:jaustin@luzernelibraries.org
END:VEVENT
BEGIN:VEVENT
DTSTART;TZID=America/New_York:20170718T110000
DTEND;TZID=America/New_York:20170718T113000
DTSTAMP:20260424T110801
CREATED:20170610T175245Z
LAST-MODIFIED:20170719T142336Z
UID:7168-1500375600-1500377400@osterhout.info
SUMMARY:Toddler Storytime
DESCRIPTION:Call 570-823-0156\, Ext 217 to register anytime after Monday\, July 10th . Toddler Storytimes ( ages 2- 3 1/2) will be \nMondays July 17th-Aug 7th 6:30PM-7:00PM\,  Tuesdays July 18th- Aug. 8th  10:00AM-10:30AM OR 11:00AM-11:30AM
URL:https://osterhout.info/event/toddler-storytime-18/
LOCATION:Osterhout Free Library – Central Branch\, 71 South Franklin Street\, Wilkes-Barre\, PA\, 18701\, United States
CATEGORIES:Youth
END:VEVENT
BEGIN:VEVENT
DTSTART;TZID=America/New_York:20160801T180000
DTEND;TZID=America/New_York:20160801T193000
DTSTAMP:20260424T110801
CREATED:20160718T192231Z
LAST-MODIFIED:20160718T193547Z
UID:4542-1470074400-1470079800@osterhout.info
SUMMARY:Artist's Club
DESCRIPTION:Join artist’s of all skill levels to share ideas and work on your own projects. Light refreshments.
URL:https://osterhout.info/event/artists-club/
LOCATION:PA
CATEGORIES:Adults
END:VEVENT
BEGIN:VEVENT
DTSTART;TZID=America/New_York:20170802T100000
DTEND;TZID=America/New_York:20170802T110000
DTSTAMP:20260424T110801
CREATED:20170717T201620Z
LAST-MODIFIED:20171003T191910Z
UID:7523-1501668000-1501671600@osterhout.info
SUMMARY:Reading with Little Tykes @ Plains
DESCRIPTION:Reading with Little Tykes now on Wednesday mornings from 10:00 am to 11:00 am at the Plains Branch! \n126 North Main Street in Plains. \nSpecifically for kids 2 to 4 years old and their grownups.
URL:https://osterhout.info/event/reading-little-tykes-plains-2017-08-02/
LOCATION:Osterhout Free Library – Plains Branch\, 126 North Main Street\, Plains\, PA\, 18705\, United States
CATEGORIES:Branches
END:VEVENT
BEGIN:VEVENT
DTSTART;TZID=America/New_York:20170809T103000
DTEND;TZID=America/New_York:20170809T113000
DTSTAMP:20260424T110801
CREATED:20170710T195223Z
LAST-MODIFIED:20170710T195840Z
UID:7400-1502274600-1502278200@osterhout.info
SUMMARY:Summer Reading @North Branch!
DESCRIPTION:The kids’ summer reading program at North Branch is from 10:30 to 11:30 on this day! \nCreate with Legos\, magnatiles & Lincoln Logs! \n28 Oliver Street (in Parsons) 570-824-1862
URL:https://osterhout.info/event/summer-reading-north-branch-2017-09-09/
LOCATION:Osterhout Free Library – North Branch\, 28 Oliver Street\, Wilkes-Barre\, PA\, 18705\, United States
CATEGORIES:Branches
ORGANIZER;CN="Osterhout Free Library%2C North Branch":MAILTO:jaustin@luzernelibraries.org
END:VEVENT
BEGIN:VEVENT
DTSTART;TZID=America/New_York:20170809T180000
DTEND;TZID=America/New_York:20170809T190000
DTSTAMP:20260424T110801
CREATED:20170725T172550Z
LAST-MODIFIED:20170727T132407Z
UID:7833-1502301600-1502305200@osterhout.info
SUMMARY:Extremely Mental Comic Book Psychotronic Show
DESCRIPTION:Join us as we locate dangerous villains\, explore superhuman powers\, and even create our own real-life super hero! This program is presented by Mark Piazza and is for teens and adults (ages 13 and up). Seating is limited\, so reservations are a must! \nFor reservations\, please call the Information Services desk at 570-821-1959.
URL:https://osterhout.info/event/extremely-mental-comic-book-psychotronic-show/
LOCATION:Osterhout Free Library – Central Branch\, 71 South Franklin Street\, Wilkes-Barre\, PA\, 18701\, United States
CATEGORIES:Adults
END:VEVENT
BEGIN:VEVENT
DTSTART;TZID=America/New_York:20170104T180000
DTEND;TZID=America/New_York:20170104T193000
DTSTAMP:20260424T110801
CREATED:20160421T155739Z
LAST-MODIFIED:20171021T175545Z
UID:3098-1483552800-1483558200@osterhout.info
SUMMARY:Teen Night
DESCRIPTION:Every Wednesday night from 6-7:30pm in the Reading Room\, we have a Teen Night event. Come enjoy each week’s offering\, eat food\, make new friends\, and relax. See you there!
URL:https://osterhout.info/event/teen-night/
LOCATION:Osterhout Free Library – Central Branch\, 71 South Franklin Street\, Wilkes-Barre\, PA\, 18701\, United States
CATEGORIES:Teens
ORGANIZER;CN="Osterhout Free Library Teens":MAILTO:oflteens@luzernelibraries.org
END:VEVENT
BEGIN:VEVENT
DTSTART;TZID=America/New_York:20160801T180000
DTEND;TZID=America/New_York:20160801T193000
DTSTAMP:20260424T110801
CREATED:20160718T192231Z
LAST-MODIFIED:20160718T193547Z
UID:4542-1470074400-1470079800@osterhout.info
SUMMARY:Artist's Club
DESCRIPTION:Join artist’s of all skill levels to share ideas and work on your own projects. Light refreshments.
URL:https://osterhout.info/event/artists-club/
LOCATION:PA
CATEGORIES:Adults
END:VEVENT
BEGIN:VEVENT
DTSTART;TZID=America/New_York:20170809T183000
DTEND;TZID=America/New_York:20170809T193000
DTSTAMP:20260424T110801
CREATED:20170808T125049Z
LAST-MODIFIED:20170808T125049Z
UID:7922-1502303400-1502307000@osterhout.info
SUMMARY:Family Fun Night
DESCRIPTION:Summer Reading Fun continues. Join us for another Family Fun Night. Call 570-823-0156\, ext 217 for more info.
URL:https://osterhout.info/event/family-fun-night-2/
LOCATION:Osterhout Free Library – Central Branch\, 71 South Franklin Street\, Wilkes-Barre\, PA\, 18701\, United States
CATEGORIES:Youth
END:VEVENT
BEGIN:VEVENT
DTSTART;TZID=America/New_York:20170810T130000
DTEND;TZID=America/New_York:20170810T140000
DTSTAMP:20260424T110801
CREATED:20170721T143046Z
LAST-MODIFIED:20170721T143046Z
UID:7800-1502370000-1502373600@osterhout.info
SUMMARY:K-9 Unit Visit!
DESCRIPTION:Join us on August 10th from  1:00PM-2:00PM . Local K-9 units will give a training demonstration. Mr. Alan Finn of Designing Dogs will speak with participants as well. Space is limited\, so call 570-823-0156\, X 217 to register.
URL:https://osterhout.info/event/k-9-unit-visit/
LOCATION:Osterhout Free Library – Central Branch\, 71 South Franklin Street\, Wilkes-Barre\, PA\, 18701\, United States
CATEGORIES:Youth
END:VEVENT
BEGIN:VEVENT
DTSTART;TZID=America/New_York:20170706T140000
DTEND;TZID=America/New_York:20170706T150000
DTSTAMP:20260424T110801
CREATED:20170628T144832Z
LAST-MODIFIED:20170628T144832Z
UID:7319-1499349600-1499353200@osterhout.info
SUMMARY:Laptotts
DESCRIPTION:Ages 3-5\, space limited . please call 570-823-0156\, ext 217 to register!
URL:https://osterhout.info/event/laptotts-5/
LOCATION:Osterhout Free Library – Central Branch\, 71 South Franklin Street\, Wilkes-Barre\, PA\, 18701\, United States
CATEGORIES:Youth
END:VEVENT
BEGIN:VEVENT
DTSTART;TZID=America/New_York:20160801T180000
DTEND;TZID=America/New_York:20160801T193000
DTSTAMP:20260424T110801
CREATED:20160718T192231Z
LAST-MODIFIED:20160718T193547Z
UID:4542-1470074400-1470079800@osterhout.info
SUMMARY:Artist's Club
DESCRIPTION:Join artist’s of all skill levels to share ideas and work on your own projects. Light refreshments.
URL:https://osterhout.info/event/artists-club/
LOCATION:PA
CATEGORIES:Adults
END:VEVENT
BEGIN:VEVENT
DTSTART;TZID=America/New_York:20170810T183000
DTEND;TZID=America/New_York:20170810T193000
DTSTAMP:20260424T110801
CREATED:20170725T173103Z
LAST-MODIFIED:20170725T173103Z
UID:7835-1502389800-1502393400@osterhout.info
SUMMARY:Color a Plastic Flower Pot
DESCRIPTION:Join us for a special night of coloring where we will decorate plastic flower pots. Supplies are limited\, so reservations are a must. This program is free\, and there will be light refreshments served. \nFor reservations\, call the Information Services desk at 570-821-1959.
URL:https://osterhout.info/event/color-plastic-flower-pot/
LOCATION:Osterhout Free Library – Central Branch\, 71 South Franklin Street\, Wilkes-Barre\, PA\, 18701\, United States
CATEGORIES:Adults
END:VEVENT
BEGIN:VEVENT
DTSTART;TZID=America/New_York:20170811T100000
DTEND;TZID=America/New_York:20170811T113000
DTSTAMP:20260424T110801
CREATED:20170804T182902Z
LAST-MODIFIED:20170804T182902Z
UID:7915-1502445600-1502451000@osterhout.info
SUMMARY:Make-Your-Favorite Turkey Sandwich at South Branch Library
DESCRIPTION:Create some tasty sandwiches!
URL:https://osterhout.info/event/make-favorite-turkey-sandwich-south-branch-library/
LOCATION:Osterhout Free Library – South Branch\, 2 Airy Street\, Wilkes Barre\, PA\, 18702\, United States
CATEGORIES:Branches
END:VEVENT
BEGIN:VEVENT
DTSTART;TZID=America/New_York:20170811T103000
DTEND;TZID=America/New_York:20170811T113000
DTSTAMP:20260424T110801
CREATED:20170710T195223Z
LAST-MODIFIED:20170710T200107Z
UID:7401-1502447400-1502451000@osterhout.info
SUMMARY:Summer Reading @North Branch!
DESCRIPTION:The kids’ summer reading program at North Branch is from 10:30 to 11:30 on this day! \nFinal Party with games\, prizes\, and lunch! \n28 Oliver Street (in Parsons) 570-824-1862
URL:https://osterhout.info/event/summer-reading-north-branch-2017-09-11/
LOCATION:Osterhout Free Library – North Branch\, 28 Oliver Street\, Wilkes-Barre\, PA\, 18705\, United States
CATEGORIES:Branches
ORGANIZER;CN="Osterhout Free Library%2C North Branch":MAILTO:jaustin@luzernelibraries.org
END:VEVENT
BEGIN:VEVENT
DTSTART;TZID=America/New_York:20160801T180000
DTEND;TZID=America/New_York:20160801T193000
DTSTAMP:20260424T110801
CREATED:20160718T192231Z
LAST-MODIFIED:20160718T193547Z
UID:4542-1470074400-1470079800@osterhout.info
SUMMARY:Artist's Club
DESCRIPTION:Join artist’s of all skill levels to share ideas and work on your own projects. Light refreshments.
URL:https://osterhout.info/event/artists-club/
LOCATION:PA
CATEGORIES:Adults
END:VEVENT
BEGIN:VEVENT
DTSTART;TZID=America/New_York:20170701T100000
DTEND;TZID=America/New_York:20170701T140000
DTSTAMP:20260424T110801
CREATED:20170622T164001Z
LAST-MODIFIED:20170622T164001Z
UID:7262-1498903200-1498917600@osterhout.info
SUMMARY:Summer Hours
DESCRIPTION:Saturday summer hours are 10 am – 2 pm
URL:https://osterhout.info/event/summer-hours/
LOCATION:Osterhout Free Library – Central Branch\, 71 South Franklin Street\, Wilkes-Barre\, PA\, 18701\, United States
END:VEVENT
BEGIN:VEVENT
DTSTART;TZID=America/New_York:20160801T180000
DTEND;TZID=America/New_York:20160801T193000
DTSTAMP:20260424T110801
CREATED:20160718T192231Z
LAST-MODIFIED:20160718T193547Z
UID:4542-1470074400-1470079800@osterhout.info
SUMMARY:Artist's Club
DESCRIPTION:Join artist’s of all skill levels to share ideas and work on your own projects. Light refreshments.
URL:https://osterhout.info/event/artists-club/
LOCATION:PA
CATEGORIES:Adults
END:VEVENT
BEGIN:VEVENT
DTSTART;TZID=America/New_York:20160801T180000
DTEND;TZID=America/New_York:20160801T193000
DTSTAMP:20260424T110801
CREATED:20160718T192231Z
LAST-MODIFIED:20160718T193547Z
UID:4542-1470074400-1470079800@osterhout.info
SUMMARY:Artist's Club
DESCRIPTION:Join artist’s of all skill levels to share ideas and work on your own projects. Light refreshments.
URL:https://osterhout.info/event/artists-club/
LOCATION:PA
CATEGORIES:Adults
END:VEVENT
BEGIN:VEVENT
DTSTART;TZID=America/New_York:20170814T110000
DTEND;TZID=America/New_York:20170814T123000
DTSTAMP:20260424T110801
CREATED:20170811T195954Z
LAST-MODIFIED:20170812T165102Z
UID:7955-1502708400-1502713800@osterhout.info
SUMMARY:Storytelling @ Farmers Market on Public Square
DESCRIPTION:Stop by the Farmers Market on Public Square Monday August 14\, 2017 any   time between  11:00AM-12:30PM  for stories and more. See you there! \n 
URL:https://osterhout.info/event/storytelling-farmers-market-public-square/
LOCATION:Osterhout Free Library – Central Branch\, 71 South Franklin Street\, Wilkes-Barre\, PA\, 18701\, United States
CATEGORIES:Youth
END:VEVENT
BEGIN:VEVENT
DTSTART;TZID=America/New_York:20170814T173000
DTEND;TZID=America/New_York:20170814T193000
DTSTAMP:20260424T110801
CREATED:20170725T173929Z
LAST-MODIFIED:20170725T173929Z
UID:7837-1502731800-1502739000@osterhout.info
SUMMARY:Summer Camp Craft Night
DESCRIPTION:Beads\, popsicle sticks\, rocks\, paint… What can you make? Join us to create classic summer camp crafts together. Seating and supplies are limited\, so reservations are a must! This is program is free and for adults only. Light refreshments will be served. \nFor reservations\, please call the Information Services desk at 570-821-1959.
URL:https://osterhout.info/event/summer-camp-craft-night/
LOCATION:Osterhout Free Library – Central Branch\, 71 South Franklin Street\, Wilkes-Barre\, PA\, 18701\, United States
CATEGORIES:Adults
END:VEVENT
BEGIN:VEVENT
DTSTART;TZID=America/New_York:20160801T180000
DTEND;TZID=America/New_York:20160801T193000
DTSTAMP:20260424T110801
CREATED:20160718T192231Z
LAST-MODIFIED:20160718T193547Z
UID:4542-1470074400-1470079800@osterhout.info
SUMMARY:Artist's Club
DESCRIPTION:Join artist’s of all skill levels to share ideas and work on your own projects. Light refreshments.
URL:https://osterhout.info/event/artists-club/
LOCATION:PA
CATEGORIES:Adults
END:VEVENT
BEGIN:VEVENT
DTSTART;TZID=America/New_York:20160801T180000
DTEND;TZID=America/New_York:20160801T193000
DTSTAMP:20260424T110801
CREATED:20160718T192231Z
LAST-MODIFIED:20160718T193547Z
UID:4542-1470074400-1470079800@osterhout.info
SUMMARY:Artist's Club
DESCRIPTION:Join artist’s of all skill levels to share ideas and work on your own projects. Light refreshments.
URL:https://osterhout.info/event/artists-club/
LOCATION:PA
CATEGORIES:Adults
END:VEVENT
BEGIN:VEVENT
DTSTART;TZID=America/New_York:20170802T100000
DTEND;TZID=America/New_York:20170802T110000
DTSTAMP:20260424T110801
CREATED:20170717T201620Z
LAST-MODIFIED:20171003T191910Z
UID:7523-1501668000-1501671600@osterhout.info
SUMMARY:Reading with Little Tykes @ Plains
DESCRIPTION:Reading with Little Tykes now on Wednesday mornings from 10:00 am to 11:00 am at the Plains Branch! \n126 North Main Street in Plains. \nSpecifically for kids 2 to 4 years old and their grownups.
URL:https://osterhout.info/event/reading-little-tykes-plains-2017-08-02/
LOCATION:Osterhout Free Library – Plains Branch\, 126 North Main Street\, Plains\, PA\, 18705\, United States
CATEGORIES:Branches
END:VEVENT
END:VCALENDAR