BEGIN:VCALENDAR
VERSION:2.0
PRODID:-//Osterhout Free Library - ECPv6.15.20//NONSGML v1.0//EN
CALSCALE:GREGORIAN
METHOD:PUBLISH
X-WR-CALNAME:Osterhout Free Library
X-ORIGINAL-URL:https://osterhout.info
X-WR-CALDESC:Events for Osterhout Free Library
REFRESH-INTERVAL;VALUE=DURATION:PT1H
X-Robots-Tag:noindex
X-PUBLISHED-TTL:PT1H
BEGIN:VTIMEZONE
TZID:America/New_York
BEGIN:DAYLIGHT
TZOFFSETFROM:-0500
TZOFFSETTO:-0400
TZNAME:EDT
DTSTART:20150308T070000
END:DAYLIGHT
BEGIN:STANDARD
TZOFFSETFROM:-0400
TZOFFSETTO:-0500
TZNAME:EST
DTSTART:20151101T060000
END:STANDARD
BEGIN:DAYLIGHT
TZOFFSETFROM:-0500
TZOFFSETTO:-0400
TZNAME:EDT
DTSTART:20160313T070000
END:DAYLIGHT
BEGIN:STANDARD
TZOFFSETFROM:-0400
TZOFFSETTO:-0500
TZNAME:EST
DTSTART:20161106T060000
END:STANDARD
BEGIN:DAYLIGHT
TZOFFSETFROM:-0500
TZOFFSETTO:-0400
TZNAME:EDT
DTSTART:20170312T070000
END:DAYLIGHT
BEGIN:STANDARD
TZOFFSETFROM:-0400
TZOFFSETTO:-0500
TZNAME:EST
DTSTART:20171105T060000
END:STANDARD
BEGIN:DAYLIGHT
TZOFFSETFROM:-0500
TZOFFSETTO:-0400
TZNAME:EDT
DTSTART:20180311T070000
END:DAYLIGHT
BEGIN:STANDARD
TZOFFSETFROM:-0400
TZOFFSETTO:-0500
TZNAME:EST
DTSTART:20181104T060000
END:STANDARD
END:VTIMEZONE
BEGIN:VEVENT
DTSTART;TZID=America/New_York:20160801T180000
DTEND;TZID=America/New_York:20160801T193000
DTSTAMP:20260424T135203
CREATED:20160718T192231Z
LAST-MODIFIED:20160718T193547Z
UID:4542-1470074400-1470079800@osterhout.info
SUMMARY:Artist's Club
DESCRIPTION:Join artist’s of all skill levels to share ideas and work on your own projects. Light refreshments.
URL:https://osterhout.info/event/artists-club/
LOCATION:PA
CATEGORIES:Adults
END:VEVENT
BEGIN:VEVENT
DTSTART;TZID=America/New_York:20170802T100000
DTEND;TZID=America/New_York:20170802T110000
DTSTAMP:20260424T135203
CREATED:20170717T201620Z
LAST-MODIFIED:20171003T191910Z
UID:7523-1501668000-1501671600@osterhout.info
SUMMARY:Reading with Little Tykes @ Plains
DESCRIPTION:Reading with Little Tykes now on Wednesday mornings from 10:00 am to 11:00 am at the Plains Branch! \n126 North Main Street in Plains. \nSpecifically for kids 2 to 4 years old and their grownups.
URL:https://osterhout.info/event/reading-little-tykes-plains-2017-08-02/
LOCATION:Osterhout Free Library – Plains Branch\, 126 North Main Street\, Plains\, PA\, 18705\, United States
CATEGORIES:Branches
END:VEVENT
BEGIN:VEVENT
DTSTART;TZID=America/New_York:20170104T180000
DTEND;TZID=America/New_York:20170104T193000
DTSTAMP:20260424T135203
CREATED:20160421T155739Z
LAST-MODIFIED:20171021T175545Z
UID:3098-1483552800-1483558200@osterhout.info
SUMMARY:Teen Night
DESCRIPTION:Every Wednesday night from 6-7:30pm in the Reading Room\, we have a Teen Night event. Come enjoy each week’s offering\, eat food\, make new friends\, and relax. See you there!
URL:https://osterhout.info/event/teen-night/
LOCATION:Osterhout Free Library – Central Branch\, 71 South Franklin Street\, Wilkes-Barre\, PA\, 18701\, United States
CATEGORIES:Teens
ORGANIZER;CN="Osterhout Free Library Teens":MAILTO:oflteens@luzernelibraries.org
END:VEVENT
BEGIN:VEVENT
DTSTART;TZID=America/New_York:20160801T180000
DTEND;TZID=America/New_York:20160801T193000
DTSTAMP:20260424T135203
CREATED:20160718T192231Z
LAST-MODIFIED:20160718T193547Z
UID:4542-1470074400-1470079800@osterhout.info
SUMMARY:Artist's Club
DESCRIPTION:Join artist’s of all skill levels to share ideas and work on your own projects. Light refreshments.
URL:https://osterhout.info/event/artists-club/
LOCATION:PA
CATEGORIES:Adults
END:VEVENT
BEGIN:VEVENT
DTSTART;TZID=America/New_York:20160801T180000
DTEND;TZID=America/New_York:20160801T193000
DTSTAMP:20260424T135203
CREATED:20160718T192231Z
LAST-MODIFIED:20160718T193547Z
UID:4542-1470074400-1470079800@osterhout.info
SUMMARY:Artist's Club
DESCRIPTION:Join artist’s of all skill levels to share ideas and work on your own projects. Light refreshments.
URL:https://osterhout.info/event/artists-club/
LOCATION:PA
CATEGORIES:Adults
END:VEVENT
BEGIN:VEVENT
DTSTART;TZID=America/New_York:20160801T180000
DTEND;TZID=America/New_York:20160801T193000
DTSTAMP:20260424T135203
CREATED:20160718T192231Z
LAST-MODIFIED:20160718T193547Z
UID:4542-1470074400-1470079800@osterhout.info
SUMMARY:Artist's Club
DESCRIPTION:Join artist’s of all skill levels to share ideas and work on your own projects. Light refreshments.
URL:https://osterhout.info/event/artists-club/
LOCATION:PA
CATEGORIES:Adults
END:VEVENT
BEGIN:VEVENT
DTSTART;VALUE=DATE:20170902
DTEND;VALUE=DATE:20170903
DTSTAMP:20260424T135203
CREATED:20170207T155708Z
LAST-MODIFIED:20170207T155708Z
UID:6300-1504310400-1504396799@osterhout.info
SUMMARY:LIBRARY IS CLOSED
DESCRIPTION:All branches of the library will be closed on Saturday\, September 2\, 2017
URL:https://osterhout.info/event/library-is-closed/
LOCATION:Osterhout Free Library – Central Branch\, 71 South Franklin Street\, Wilkes-Barre\, PA\, 18701\, United States
END:VEVENT
BEGIN:VEVENT
DTSTART;TZID=America/New_York:20160801T180000
DTEND;TZID=America/New_York:20160801T193000
DTSTAMP:20260424T135203
CREATED:20160718T192231Z
LAST-MODIFIED:20160718T193547Z
UID:4542-1470074400-1470079800@osterhout.info
SUMMARY:Artist's Club
DESCRIPTION:Join artist’s of all skill levels to share ideas and work on your own projects. Light refreshments.
URL:https://osterhout.info/event/artists-club/
LOCATION:PA
CATEGORIES:Adults
END:VEVENT
BEGIN:VEVENT
DTSTART;TZID=America/New_York:20160801T180000
DTEND;TZID=America/New_York:20160801T193000
DTSTAMP:20260424T135203
CREATED:20160718T192231Z
LAST-MODIFIED:20160718T193547Z
UID:4542-1470074400-1470079800@osterhout.info
SUMMARY:Artist's Club
DESCRIPTION:Join artist’s of all skill levels to share ideas and work on your own projects. Light refreshments.
URL:https://osterhout.info/event/artists-club/
LOCATION:PA
CATEGORIES:Adults
END:VEVENT
BEGIN:VEVENT
DTSTART;VALUE=DATE:20170904
DTEND;VALUE=DATE:20170905
DTSTAMP:20260424T135203
CREATED:20170203T214941Z
LAST-MODIFIED:20170203T214941Z
UID:6272-1504483200-1504569599@osterhout.info
SUMMARY:Labor Day - CLOSED
DESCRIPTION:The four branches of the library are closed for Labor Day.
URL:https://osterhout.info/event/labor-day-closed-3/
LOCATION:Osterhout Free Library – Central Branch\, 71 South Franklin Street\, Wilkes-Barre\, PA\, 18701\, United States
CATEGORIES:Branches
END:VEVENT
BEGIN:VEVENT
DTSTART;TZID=America/New_York:20160801T180000
DTEND;TZID=America/New_York:20160801T193000
DTSTAMP:20260424T135203
CREATED:20160718T192231Z
LAST-MODIFIED:20160718T193547Z
UID:4542-1470074400-1470079800@osterhout.info
SUMMARY:Artist's Club
DESCRIPTION:Join artist’s of all skill levels to share ideas and work on your own projects. Light refreshments.
URL:https://osterhout.info/event/artists-club/
LOCATION:PA
CATEGORIES:Adults
END:VEVENT
BEGIN:VEVENT
DTSTART;TZID=America/New_York:20160801T180000
DTEND;TZID=America/New_York:20160801T193000
DTSTAMP:20260424T135203
CREATED:20160718T192231Z
LAST-MODIFIED:20160718T193547Z
UID:4542-1470074400-1470079800@osterhout.info
SUMMARY:Artist's Club
DESCRIPTION:Join artist’s of all skill levels to share ideas and work on your own projects. Light refreshments.
URL:https://osterhout.info/event/artists-club/
LOCATION:PA
CATEGORIES:Adults
END:VEVENT
BEGIN:VEVENT
DTSTART;TZID=America/New_York:20170802T100000
DTEND;TZID=America/New_York:20170802T110000
DTSTAMP:20260424T135203
CREATED:20170717T201620Z
LAST-MODIFIED:20171003T191910Z
UID:7523-1501668000-1501671600@osterhout.info
SUMMARY:Reading with Little Tykes @ Plains
DESCRIPTION:Reading with Little Tykes now on Wednesday mornings from 10:00 am to 11:00 am at the Plains Branch! \n126 North Main Street in Plains. \nSpecifically for kids 2 to 4 years old and their grownups.
URL:https://osterhout.info/event/reading-little-tykes-plains-2017-08-02/
LOCATION:Osterhout Free Library – Plains Branch\, 126 North Main Street\, Plains\, PA\, 18705\, United States
CATEGORIES:Branches
END:VEVENT
BEGIN:VEVENT
DTSTART;TZID=America/New_York:20170104T180000
DTEND;TZID=America/New_York:20170104T193000
DTSTAMP:20260424T135203
CREATED:20160421T155739Z
LAST-MODIFIED:20171021T175545Z
UID:3098-1483552800-1483558200@osterhout.info
SUMMARY:Teen Night
DESCRIPTION:Every Wednesday night from 6-7:30pm in the Reading Room\, we have a Teen Night event. Come enjoy each week’s offering\, eat food\, make new friends\, and relax. See you there!
URL:https://osterhout.info/event/teen-night/
LOCATION:Osterhout Free Library – Central Branch\, 71 South Franklin Street\, Wilkes-Barre\, PA\, 18701\, United States
CATEGORIES:Teens
ORGANIZER;CN="Osterhout Free Library Teens":MAILTO:oflteens@luzernelibraries.org
END:VEVENT
BEGIN:VEVENT
DTSTART;TZID=America/New_York:20160801T180000
DTEND;TZID=America/New_York:20160801T193000
DTSTAMP:20260424T135203
CREATED:20160718T192231Z
LAST-MODIFIED:20160718T193547Z
UID:4542-1470074400-1470079800@osterhout.info
SUMMARY:Artist's Club
DESCRIPTION:Join artist’s of all skill levels to share ideas and work on your own projects. Light refreshments.
URL:https://osterhout.info/event/artists-club/
LOCATION:PA
CATEGORIES:Adults
END:VEVENT
BEGIN:VEVENT
DTSTART;TZID=America/New_York:20160801T180000
DTEND;TZID=America/New_York:20160801T193000
DTSTAMP:20260424T135204
CREATED:20160718T192231Z
LAST-MODIFIED:20160718T193547Z
UID:4542-1470074400-1470079800@osterhout.info
SUMMARY:Artist's Club
DESCRIPTION:Join artist’s of all skill levels to share ideas and work on your own projects. Light refreshments.
URL:https://osterhout.info/event/artists-club/
LOCATION:PA
CATEGORIES:Adults
END:VEVENT
BEGIN:VEVENT
DTSTART;TZID=America/New_York:20160801T180000
DTEND;TZID=America/New_York:20160801T193000
DTSTAMP:20260424T135204
CREATED:20160718T192231Z
LAST-MODIFIED:20160718T193547Z
UID:4542-1470074400-1470079800@osterhout.info
SUMMARY:Artist's Club
DESCRIPTION:Join artist’s of all skill levels to share ideas and work on your own projects. Light refreshments.
URL:https://osterhout.info/event/artists-club/
LOCATION:PA
CATEGORIES:Adults
END:VEVENT
BEGIN:VEVENT
DTSTART;TZID=America/New_York:20170908T180000
DTEND;TZID=America/New_York:20170908T230000
DTSTAMP:20260424T135204
CREATED:20161107T183549Z
LAST-MODIFIED:20170613T151939Z
UID:5259-1504893600-1504911600@osterhout.info
SUMMARY:Under the Tuscan Sun Gala
DESCRIPTION:Join us for the annual Osterhout Free Library Gala from 6-11pm at the Westmoreland Club in downtown Wilkes-Barre. The gala theme celebrates the well-known book and movie\, Under the Tuscan Sun. \nGala Co-Chairs for 2017 are Molly Hoegen & Kim Mericle. \nReservations are $150 per person. That includes valet parking\, open bar all night long\, an exquisite dinner and dancing under the tent to the Deja Groove Party Band. A large silent auction & trip raffle for a vacation to Tuscany ($5\,000 value) will also be part of the evening. \nContact Christopher Kelly at 570.823.0156 x 218 for reservations\, questions & sponsorship opportunities. \nReservations can also be made at the following link: https://www.eventbrite.com/e/under-the-tuscan-sun-gala-tickets-34211697107
URL:https://osterhout.info/event/osterhout-library-annual-gala/
LOCATION:Westmoreland Club\, 59 S Franklin St\, Wilkes-Barre\, PA\, 18701\, United States
CATEGORIES:Fundraising
END:VEVENT
BEGIN:VEVENT
DTSTART;TZID=America/New_York:20170909T130000
DTEND;TZID=America/New_York:20170909T140000
DTSTAMP:20260424T135204
CREATED:20170823T190007Z
LAST-MODIFIED:20170823T190007Z
UID:8017-1504962000-1504965600@osterhout.info
SUMMARY:My American Odyssey: A World War II Journal
DESCRIPTION:John Byers talks about his book\, My American Odyssey\, which is based on his grandfather Donald Byers’s World War II journal. \nThis is a free event with light refreshments served.
URL:https://osterhout.info/event/american-odyssey-world-war-ii-journal/
LOCATION:Osterhout Free Library – Central Branch\, 71 South Franklin Street\, Wilkes-Barre\, PA\, 18701\, United States
CATEGORIES:Adults
END:VEVENT
BEGIN:VEVENT
DTSTART;TZID=America/New_York:20170909T130000
DTEND;TZID=America/New_York:20170909T150000
DTSTAMP:20260424T135204
CREATED:20170908T163822Z
LAST-MODIFIED:20170908T163822Z
UID:8070-1504962000-1504969200@osterhout.info
SUMMARY:Apple Fun
DESCRIPTION:
URL:https://osterhout.info/event/apple-fun/
LOCATION:Osterhout Free Library – Central Branch\, 71 South Franklin Street\, Wilkes-Barre\, PA\, 18701\, United States
CATEGORIES:Youth
END:VEVENT
BEGIN:VEVENT
DTSTART;TZID=America/New_York:20160801T180000
DTEND;TZID=America/New_York:20160801T193000
DTSTAMP:20260424T135204
CREATED:20160718T192231Z
LAST-MODIFIED:20160718T193547Z
UID:4542-1470074400-1470079800@osterhout.info
SUMMARY:Artist's Club
DESCRIPTION:Join artist’s of all skill levels to share ideas and work on your own projects. Light refreshments.
URL:https://osterhout.info/event/artists-club/
LOCATION:PA
CATEGORIES:Adults
END:VEVENT
BEGIN:VEVENT
DTSTART;TZID=America/New_York:20160801T180000
DTEND;TZID=America/New_York:20160801T193000
DTSTAMP:20260424T135204
CREATED:20160718T192231Z
LAST-MODIFIED:20160718T193547Z
UID:4542-1470074400-1470079800@osterhout.info
SUMMARY:Artist's Club
DESCRIPTION:Join artist’s of all skill levels to share ideas and work on your own projects. Light refreshments.
URL:https://osterhout.info/event/artists-club/
LOCATION:PA
CATEGORIES:Adults
END:VEVENT
BEGIN:VEVENT
DTSTART;TZID=America/New_York:20160801T180000
DTEND;TZID=America/New_York:20160801T193000
DTSTAMP:20260424T135204
CREATED:20160718T192231Z
LAST-MODIFIED:20160718T193547Z
UID:4542-1470074400-1470079800@osterhout.info
SUMMARY:Artist's Club
DESCRIPTION:Join artist’s of all skill levels to share ideas and work on your own projects. Light refreshments.
URL:https://osterhout.info/event/artists-club/
LOCATION:PA
CATEGORIES:Adults
END:VEVENT
BEGIN:VEVENT
DTSTART;TZID=America/New_York:20170912T080000
DTEND;TZID=America/New_York:20170912T170000
DTSTAMP:20260424T135204
CREATED:20170912T184146Z
LAST-MODIFIED:20170912T184215Z
UID:8086-1505203200-1505235600@osterhout.info
SUMMARY:Book and Babies Registration Begins
DESCRIPTION:Books and Babies begins next week.  Call 570-823-0156. Ext 217 anytime this week to register. Space is limited!
URL:https://osterhout.info/event/book-babies-registration-begins/
LOCATION:Osterhout Free Library – Central Branch\, 71 South Franklin Street\, Wilkes-Barre\, PA\, 18701\, United States
CATEGORIES:Youth
END:VEVENT
BEGIN:VEVENT
DTSTART;TZID=America/New_York:20160801T180000
DTEND;TZID=America/New_York:20160801T193000
DTSTAMP:20260424T135204
CREATED:20160718T192231Z
LAST-MODIFIED:20160718T193547Z
UID:4542-1470074400-1470079800@osterhout.info
SUMMARY:Artist's Club
DESCRIPTION:Join artist’s of all skill levels to share ideas and work on your own projects. Light refreshments.
URL:https://osterhout.info/event/artists-club/
LOCATION:PA
CATEGORIES:Adults
END:VEVENT
BEGIN:VEVENT
DTSTART;TZID=America/New_York:20170912T183000
DTEND;TZID=America/New_York:20170912T193000
DTSTAMP:20260424T135204
CREATED:20170823T190345Z
LAST-MODIFIED:20170823T190345Z
UID:8019-1505241000-1505244600@osterhout.info
SUMMARY:Getting Unstuck From Destructive Habits
DESCRIPTION:Karen Holcomb\, LSW\, tells us how to stop our bad habits. \nThis is a free event with light refreshments served. For reservations\, please call 570-821-1959.
URL:https://osterhout.info/event/getting-unstuck-destructive-habits/
LOCATION:Osterhout Free Library – Central Branch\, 71 South Franklin Street\, Wilkes-Barre\, PA\, 18701\, United States
CATEGORIES:Adults
END:VEVENT
BEGIN:VEVENT
DTSTART;TZID=America/New_York:20170802T100000
DTEND;TZID=America/New_York:20170802T110000
DTSTAMP:20260424T135204
CREATED:20170717T201620Z
LAST-MODIFIED:20171003T191910Z
UID:7523-1501668000-1501671600@osterhout.info
SUMMARY:Reading with Little Tykes @ Plains
DESCRIPTION:Reading with Little Tykes now on Wednesday mornings from 10:00 am to 11:00 am at the Plains Branch! \n126 North Main Street in Plains. \nSpecifically for kids 2 to 4 years old and their grownups.
URL:https://osterhout.info/event/reading-little-tykes-plains-2017-08-02/
LOCATION:Osterhout Free Library – Plains Branch\, 126 North Main Street\, Plains\, PA\, 18705\, United States
CATEGORIES:Branches
END:VEVENT
BEGIN:VEVENT
DTSTART;TZID=America/New_York:20170104T180000
DTEND;TZID=America/New_York:20170104T193000
DTSTAMP:20260424T135204
CREATED:20160421T155739Z
LAST-MODIFIED:20171021T175545Z
UID:3098-1483552800-1483558200@osterhout.info
SUMMARY:Teen Night
DESCRIPTION:Every Wednesday night from 6-7:30pm in the Reading Room\, we have a Teen Night event. Come enjoy each week’s offering\, eat food\, make new friends\, and relax. See you there!
URL:https://osterhout.info/event/teen-night/
LOCATION:Osterhout Free Library – Central Branch\, 71 South Franklin Street\, Wilkes-Barre\, PA\, 18701\, United States
CATEGORIES:Teens
ORGANIZER;CN="Osterhout Free Library Teens":MAILTO:oflteens@luzernelibraries.org
END:VEVENT
BEGIN:VEVENT
DTSTART;TZID=America/New_York:20160801T180000
DTEND;TZID=America/New_York:20160801T193000
DTSTAMP:20260424T135204
CREATED:20160718T192231Z
LAST-MODIFIED:20160718T193547Z
UID:4542-1470074400-1470079800@osterhout.info
SUMMARY:Artist's Club
DESCRIPTION:Join artist’s of all skill levels to share ideas and work on your own projects. Light refreshments.
URL:https://osterhout.info/event/artists-club/
LOCATION:PA
CATEGORIES:Adults
END:VEVENT
BEGIN:VEVENT
DTSTART;TZID=America/New_York:20160801T180000
DTEND;TZID=America/New_York:20160801T193000
DTSTAMP:20260424T135204
CREATED:20160718T192231Z
LAST-MODIFIED:20160718T193547Z
UID:4542-1470074400-1470079800@osterhout.info
SUMMARY:Artist's Club
DESCRIPTION:Join artist’s of all skill levels to share ideas and work on your own projects. Light refreshments.
URL:https://osterhout.info/event/artists-club/
LOCATION:PA
CATEGORIES:Adults
END:VEVENT
END:VCALENDAR