BEGIN:VCALENDAR
VERSION:2.0
PRODID:-//Osterhout Free Library - ECPv6.15.20//NONSGML v1.0//EN
CALSCALE:GREGORIAN
METHOD:PUBLISH
X-ORIGINAL-URL:https://osterhout.info
X-WR-CALDESC:Events for Osterhout Free Library
REFRESH-INTERVAL;VALUE=DURATION:PT1H
X-Robots-Tag:noindex
X-PUBLISHED-TTL:PT1H
BEGIN:VTIMEZONE
TZID:America/New_York
BEGIN:DAYLIGHT
TZOFFSETFROM:-0500
TZOFFSETTO:-0400
TZNAME:EDT
DTSTART:20150308T070000
END:DAYLIGHT
BEGIN:STANDARD
TZOFFSETFROM:-0400
TZOFFSETTO:-0500
TZNAME:EST
DTSTART:20151101T060000
END:STANDARD
BEGIN:DAYLIGHT
TZOFFSETFROM:-0500
TZOFFSETTO:-0400
TZNAME:EDT
DTSTART:20160313T070000
END:DAYLIGHT
BEGIN:STANDARD
TZOFFSETFROM:-0400
TZOFFSETTO:-0500
TZNAME:EST
DTSTART:20161106T060000
END:STANDARD
BEGIN:DAYLIGHT
TZOFFSETFROM:-0500
TZOFFSETTO:-0400
TZNAME:EDT
DTSTART:20170312T070000
END:DAYLIGHT
BEGIN:STANDARD
TZOFFSETFROM:-0400
TZOFFSETTO:-0500
TZNAME:EST
DTSTART:20171105T060000
END:STANDARD
BEGIN:DAYLIGHT
TZOFFSETFROM:-0500
TZOFFSETTO:-0400
TZNAME:EDT
DTSTART:20180311T070000
END:DAYLIGHT
BEGIN:STANDARD
TZOFFSETFROM:-0400
TZOFFSETTO:-0500
TZNAME:EST
DTSTART:20181104T060000
END:STANDARD
END:VTIMEZONE
BEGIN:VEVENT
DTSTART;TZID=America/New_York:20170915T180000
DTEND;TZID=America/New_York:20170915T190000
DTSTAMP:20260424T153240
CREATED:20170913T225118Z
LAST-MODIFIED:20170913T225118Z
UID:8096-1505498400-1505502000@osterhout.info
SUMMARY:Meet the Author - Barbara DeWitt Smith
DESCRIPTION:
URL:https://osterhout.info/event/meet-author-barbara-dewitt-smith/
LOCATION:Osterhout Free Library – Central Branch\, 71 South Franklin Street\, Wilkes-Barre\, PA\, 18701\, United States
CATEGORIES:Adults
END:VEVENT
BEGIN:VEVENT
DTSTART;TZID=America/New_York:20160801T180000
DTEND;TZID=America/New_York:20160801T193000
DTSTAMP:20260424T153240
CREATED:20160718T192231Z
LAST-MODIFIED:20160718T193547Z
UID:4542-1470074400-1470079800@osterhout.info
SUMMARY:Artist's Club
DESCRIPTION:Join artist’s of all skill levels to share ideas and work on your own projects. Light refreshments.
URL:https://osterhout.info/event/artists-club/
LOCATION:PA
CATEGORIES:Adults
END:VEVENT
BEGIN:VEVENT
DTSTART;TZID=America/New_York:20170916T110000
DTEND;TZID=America/New_York:20170916T120000
DTSTAMP:20260424T153240
CREATED:20170908T164112Z
LAST-MODIFIED:20170908T164112Z
UID:8074-1505559600-1505563200@osterhout.info
SUMMARY:Meet the Author!
DESCRIPTION:
URL:https://osterhout.info/event/meet-the-author/
LOCATION:Osterhout Free Library – Central Branch\, 71 South Franklin Street\, Wilkes-Barre\, PA\, 18701\, United States
CATEGORIES:Youth
END:VEVENT
BEGIN:VEVENT
DTSTART;TZID=America/New_York:20170916T120000
DTEND;TZID=America/New_York:20170916T140000
DTSTAMP:20260424T153240
CREATED:20170913T194557Z
LAST-MODIFIED:20170913T194650Z
UID:8090-1505563200-1505570400@osterhout.info
SUMMARY:Superhero Training
DESCRIPTION:Join us anytime Saturday \, Sept 16th anytime between 12:00pm-2:00pm for Superhero training. Create your own superhero costume\, play superhero games\, and  check out superhero books or sign up for your first library card.
URL:https://osterhout.info/event/superhero-training/
LOCATION:Osterhout Free Library – Central Branch\, 71 South Franklin Street\, Wilkes-Barre\, PA\, 18701\, United States
CATEGORIES:Youth
END:VEVENT
BEGIN:VEVENT
DTSTART;TZID=America/New_York:20160801T180000
DTEND;TZID=America/New_York:20160801T193000
DTSTAMP:20260424T153240
CREATED:20160718T192231Z
LAST-MODIFIED:20160718T193547Z
UID:4542-1470074400-1470079800@osterhout.info
SUMMARY:Artist's Club
DESCRIPTION:Join artist’s of all skill levels to share ideas and work on your own projects. Light refreshments.
URL:https://osterhout.info/event/artists-club/
LOCATION:PA
CATEGORIES:Adults
END:VEVENT
BEGIN:VEVENT
DTSTART;TZID=America/New_York:20160801T180000
DTEND;TZID=America/New_York:20160801T193000
DTSTAMP:20260424T153240
CREATED:20160718T192231Z
LAST-MODIFIED:20160718T193547Z
UID:4542-1470074400-1470079800@osterhout.info
SUMMARY:Artist's Club
DESCRIPTION:Join artist’s of all skill levels to share ideas and work on your own projects. Light refreshments.
URL:https://osterhout.info/event/artists-club/
LOCATION:PA
CATEGORIES:Adults
END:VEVENT
BEGIN:VEVENT
DTSTART;TZID=America/New_York:20170918T173000
DTEND;TZID=America/New_York:20170918T183000
DTSTAMP:20260424T153240
CREATED:20170823T190841Z
LAST-MODIFIED:20170824T123854Z
UID:8021-1505755800-1505759400@osterhout.info
SUMMARY:DIY Night: Button Trees
DESCRIPTION:Paint your own fall tree on a canvas and use buttons of all colors for the leaves! \nThis is a free class for adults only (18 and older). There will be light refreshments served. Seating and supplies are limited\, so please call 570-821-1959 to reserve a spot.
URL:https://osterhout.info/event/diy-night-button-trees/
LOCATION:Osterhout Free Library – Central Branch\, 71 South Franklin Street\, Wilkes-Barre\, PA\, 18701\, United States
CATEGORIES:Adults
END:VEVENT
BEGIN:VEVENT
DTSTART;TZID=America/New_York:20160801T180000
DTEND;TZID=America/New_York:20160801T193000
DTSTAMP:20260424T153240
CREATED:20160718T192231Z
LAST-MODIFIED:20160718T193547Z
UID:4542-1470074400-1470079800@osterhout.info
SUMMARY:Artist's Club
DESCRIPTION:Join artist’s of all skill levels to share ideas and work on your own projects. Light refreshments.
URL:https://osterhout.info/event/artists-club/
LOCATION:PA
CATEGORIES:Adults
END:VEVENT
BEGIN:VEVENT
DTSTART;TZID=America/New_York:20170919T093000
DTEND;TZID=America/New_York:20170919T104500
DTSTAMP:20260424T153240
CREATED:20170911T014033Z
LAST-MODIFIED:20170911T014033Z
UID:8078-1505813400-1505817900@osterhout.info
SUMMARY:Books and Babies
DESCRIPTION:Join us for a special storytime for ages 1-3 years on Tuesdays\, September 19th- October 10 at 9:30am-10:45am. \nSpace is limited\, Call 570-823-0156\, Ext. 217. to register.
URL:https://osterhout.info/event/books-and-babies-2/
LOCATION:Osterhout Free Library – Central Branch\, 71 South Franklin Street\, Wilkes-Barre\, PA\, 18701\, United States
CATEGORIES:Youth
END:VEVENT
BEGIN:VEVENT
DTSTART;TZID=America/New_York:20160801T180000
DTEND;TZID=America/New_York:20160801T193000
DTSTAMP:20260424T153240
CREATED:20160718T192231Z
LAST-MODIFIED:20160718T193547Z
UID:4542-1470074400-1470079800@osterhout.info
SUMMARY:Artist's Club
DESCRIPTION:Join artist’s of all skill levels to share ideas and work on your own projects. Light refreshments.
URL:https://osterhout.info/event/artists-club/
LOCATION:PA
CATEGORIES:Adults
END:VEVENT
BEGIN:VEVENT
DTSTART;TZID=America/New_York:20170119T183000
DTEND;TZID=America/New_York:20170119T200000
DTSTAMP:20260424T153240
CREATED:20161228T213923Z
LAST-MODIFIED:20200813T133052Z
UID:5622-1484850600-1484856000@osterhout.info
SUMMARY:Franklin Street Sleuths Book Discussion Group
DESCRIPTION:Light refreshments
URL:https://osterhout.info/event/franklin-street-sleuths-book-discussion-group/
LOCATION:Osterhout Free Library – Central Branch\, 71 South Franklin Street\, Wilkes-Barre\, PA\, 18701\, United States
CATEGORIES:Adults
END:VEVENT
BEGIN:VEVENT
DTSTART;TZID=America/New_York:20170802T100000
DTEND;TZID=America/New_York:20170802T110000
DTSTAMP:20260424T153240
CREATED:20170717T201620Z
LAST-MODIFIED:20171003T191910Z
UID:7523-1501668000-1501671600@osterhout.info
SUMMARY:Reading with Little Tykes @ Plains
DESCRIPTION:Reading with Little Tykes now on Wednesday mornings from 10:00 am to 11:00 am at the Plains Branch! \n126 North Main Street in Plains. \nSpecifically for kids 2 to 4 years old and their grownups.
URL:https://osterhout.info/event/reading-little-tykes-plains-2017-08-02/
LOCATION:Osterhout Free Library – Plains Branch\, 126 North Main Street\, Plains\, PA\, 18705\, United States
CATEGORIES:Branches
END:VEVENT
BEGIN:VEVENT
DTSTART;TZID=America/New_York:20170104T180000
DTEND;TZID=America/New_York:20170104T193000
DTSTAMP:20260424T153240
CREATED:20160421T155739Z
LAST-MODIFIED:20171021T175545Z
UID:3098-1483552800-1483558200@osterhout.info
SUMMARY:Teen Night
DESCRIPTION:Every Wednesday night from 6-7:30pm in the Reading Room\, we have a Teen Night event. Come enjoy each week’s offering\, eat food\, make new friends\, and relax. See you there!
URL:https://osterhout.info/event/teen-night/
LOCATION:Osterhout Free Library – Central Branch\, 71 South Franklin Street\, Wilkes-Barre\, PA\, 18701\, United States
CATEGORIES:Teens
ORGANIZER;CN="Osterhout Free Library Teens":MAILTO:oflteens@luzernelibraries.org
END:VEVENT
BEGIN:VEVENT
DTSTART;TZID=America/New_York:20160801T180000
DTEND;TZID=America/New_York:20160801T193000
DTSTAMP:20260424T153240
CREATED:20160718T192231Z
LAST-MODIFIED:20160718T193547Z
UID:4542-1470074400-1470079800@osterhout.info
SUMMARY:Artist's Club
DESCRIPTION:Join artist’s of all skill levels to share ideas and work on your own projects. Light refreshments.
URL:https://osterhout.info/event/artists-club/
LOCATION:PA
CATEGORIES:Adults
END:VEVENT
BEGIN:VEVENT
DTSTART;TZID=America/New_York:20160801T180000
DTEND;TZID=America/New_York:20160801T193000
DTSTAMP:20260424T153240
CREATED:20160718T192231Z
LAST-MODIFIED:20160718T193547Z
UID:4542-1470074400-1470079800@osterhout.info
SUMMARY:Artist's Club
DESCRIPTION:Join artist’s of all skill levels to share ideas and work on your own projects. Light refreshments.
URL:https://osterhout.info/event/artists-club/
LOCATION:PA
CATEGORIES:Adults
END:VEVENT
BEGIN:VEVENT
DTSTART;TZID=America/New_York:20170921T183000
DTEND;TZID=America/New_York:20170921T200000
DTSTAMP:20260424T153241
CREATED:20161228T213923Z
LAST-MODIFIED:20170823T191315Z
UID:5631-1506018600-1506024000@osterhout.info
SUMMARY:Franklin Street Sleuths Book Discussion Group
DESCRIPTION:Join us for a lively discussion of Jack Dubrul’s Pandora’s Curse! Light refreshments will be served.
URL:https://osterhout.info/event/franklin-street-sleuths-book-discussion-group-2017-09-21/
LOCATION:Osterhout Free Library – Central Branch\, 71 South Franklin Street\, Wilkes-Barre\, PA\, 18701\, United States
CATEGORIES:Adults
END:VEVENT
BEGIN:VEVENT
DTSTART;TZID=America/New_York:20160801T180000
DTEND;TZID=America/New_York:20160801T193000
DTSTAMP:20260424T153241
CREATED:20160718T192231Z
LAST-MODIFIED:20160718T193547Z
UID:4542-1470074400-1470079800@osterhout.info
SUMMARY:Artist's Club
DESCRIPTION:Join artist’s of all skill levels to share ideas and work on your own projects. Light refreshments.
URL:https://osterhout.info/event/artists-club/
LOCATION:PA
CATEGORIES:Adults
END:VEVENT
BEGIN:VEVENT
DTSTART;TZID=America/New_York:20160801T180000
DTEND;TZID=America/New_York:20160801T193000
DTSTAMP:20260424T153241
CREATED:20160718T192231Z
LAST-MODIFIED:20160718T193547Z
UID:4542-1470074400-1470079800@osterhout.info
SUMMARY:Artist's Club
DESCRIPTION:Join artist’s of all skill levels to share ideas and work on your own projects. Light refreshments.
URL:https://osterhout.info/event/artists-club/
LOCATION:PA
CATEGORIES:Adults
END:VEVENT
BEGIN:VEVENT
DTSTART;TZID=America/New_York:20160801T180000
DTEND;TZID=America/New_York:20160801T193000
DTSTAMP:20260424T153241
CREATED:20160718T192231Z
LAST-MODIFIED:20160718T193547Z
UID:4542-1470074400-1470079800@osterhout.info
SUMMARY:Artist's Club
DESCRIPTION:Join artist’s of all skill levels to share ideas and work on your own projects. Light refreshments.
URL:https://osterhout.info/event/artists-club/
LOCATION:PA
CATEGORIES:Adults
END:VEVENT
BEGIN:VEVENT
DTSTART;TZID=America/New_York:20160801T180000
DTEND;TZID=America/New_York:20160801T193000
DTSTAMP:20260424T153241
CREATED:20160718T192231Z
LAST-MODIFIED:20160718T193547Z
UID:4542-1470074400-1470079800@osterhout.info
SUMMARY:Artist's Club
DESCRIPTION:Join artist’s of all skill levels to share ideas and work on your own projects. Light refreshments.
URL:https://osterhout.info/event/artists-club/
LOCATION:PA
CATEGORIES:Adults
END:VEVENT
BEGIN:VEVENT
DTSTART;TZID=America/New_York:20170919T093000
DTEND;TZID=America/New_York:20170919T104500
DTSTAMP:20260424T153241
CREATED:20170911T014033Z
LAST-MODIFIED:20170911T014033Z
UID:8078-1505813400-1505817900@osterhout.info
SUMMARY:Books and Babies
DESCRIPTION:Join us for a special storytime for ages 1-3 years on Tuesdays\, September 19th- October 10 at 9:30am-10:45am. \nSpace is limited\, Call 570-823-0156\, Ext. 217. to register.
URL:https://osterhout.info/event/books-and-babies-2/
LOCATION:Osterhout Free Library – Central Branch\, 71 South Franklin Street\, Wilkes-Barre\, PA\, 18701\, United States
CATEGORIES:Youth
END:VEVENT
BEGIN:VEVENT
DTSTART;TZID=America/New_York:20160801T180000
DTEND;TZID=America/New_York:20160801T193000
DTSTAMP:20260424T153241
CREATED:20160718T192231Z
LAST-MODIFIED:20160718T193547Z
UID:4542-1470074400-1470079800@osterhout.info
SUMMARY:Artist's Club
DESCRIPTION:Join artist’s of all skill levels to share ideas and work on your own projects. Light refreshments.
URL:https://osterhout.info/event/artists-club/
LOCATION:PA
CATEGORIES:Adults
END:VEVENT
BEGIN:VEVENT
DTSTART;TZID=America/New_York:20170126T180000
DTEND;TZID=America/New_York:20170126T193000
DTSTAMP:20260424T153241
CREATED:20161228T214141Z
LAST-MODIFIED:20171021T180324Z
UID:5647-1485453600-1485459000@osterhout.info
SUMMARY:Coloring for Adults
DESCRIPTION:Experience the relaxing art of coloring . Use our supplies or bring your own. Light refreshments.
URL:https://osterhout.info/event/coloring-for-adults-2/
LOCATION:Osterhout Free Library – Central Branch\, 71 South Franklin Street\, Wilkes-Barre\, PA\, 18701\, United States
CATEGORIES:Adults
END:VEVENT
BEGIN:VEVENT
DTSTART;TZID=America/New_York:20170802T100000
DTEND;TZID=America/New_York:20170802T110000
DTSTAMP:20260424T153241
CREATED:20170717T201620Z
LAST-MODIFIED:20171003T191910Z
UID:7523-1501668000-1501671600@osterhout.info
SUMMARY:Reading with Little Tykes @ Plains
DESCRIPTION:Reading with Little Tykes now on Wednesday mornings from 10:00 am to 11:00 am at the Plains Branch! \n126 North Main Street in Plains. \nSpecifically for kids 2 to 4 years old and their grownups.
URL:https://osterhout.info/event/reading-little-tykes-plains-2017-08-02/
LOCATION:Osterhout Free Library – Plains Branch\, 126 North Main Street\, Plains\, PA\, 18705\, United States
CATEGORIES:Branches
END:VEVENT
BEGIN:VEVENT
DTSTART;TZID=America/New_York:20170104T180000
DTEND;TZID=America/New_York:20170104T193000
DTSTAMP:20260424T153241
CREATED:20160421T155739Z
LAST-MODIFIED:20171021T175545Z
UID:3098-1483552800-1483558200@osterhout.info
SUMMARY:Teen Night
DESCRIPTION:Every Wednesday night from 6-7:30pm in the Reading Room\, we have a Teen Night event. Come enjoy each week’s offering\, eat food\, make new friends\, and relax. See you there!
URL:https://osterhout.info/event/teen-night/
LOCATION:Osterhout Free Library – Central Branch\, 71 South Franklin Street\, Wilkes-Barre\, PA\, 18701\, United States
CATEGORIES:Teens
ORGANIZER;CN="Osterhout Free Library Teens":MAILTO:oflteens@luzernelibraries.org
END:VEVENT
BEGIN:VEVENT
DTSTART;TZID=America/New_York:20160801T180000
DTEND;TZID=America/New_York:20160801T193000
DTSTAMP:20260424T153241
CREATED:20160718T192231Z
LAST-MODIFIED:20160718T193547Z
UID:4542-1470074400-1470079800@osterhout.info
SUMMARY:Artist's Club
DESCRIPTION:Join artist’s of all skill levels to share ideas and work on your own projects. Light refreshments.
URL:https://osterhout.info/event/artists-club/
LOCATION:PA
CATEGORIES:Adults
END:VEVENT
BEGIN:VEVENT
DTSTART;TZID=America/New_York:20160801T180000
DTEND;TZID=America/New_York:20160801T193000
DTSTAMP:20260424T153241
CREATED:20160718T192231Z
LAST-MODIFIED:20160718T193547Z
UID:4542-1470074400-1470079800@osterhout.info
SUMMARY:Artist's Club
DESCRIPTION:Join artist’s of all skill levels to share ideas and work on your own projects. Light refreshments.
URL:https://osterhout.info/event/artists-club/
LOCATION:PA
CATEGORIES:Adults
END:VEVENT
BEGIN:VEVENT
DTSTART;TZID=America/New_York:20160801T180000
DTEND;TZID=America/New_York:20160801T193000
DTSTAMP:20260424T153241
CREATED:20160718T192231Z
LAST-MODIFIED:20160718T193547Z
UID:4542-1470074400-1470079800@osterhout.info
SUMMARY:Artist's Club
DESCRIPTION:Join artist’s of all skill levels to share ideas and work on your own projects. Light refreshments.
URL:https://osterhout.info/event/artists-club/
LOCATION:PA
CATEGORIES:Adults
END:VEVENT
BEGIN:VEVENT
DTSTART;TZID=America/New_York:20160801T180000
DTEND;TZID=America/New_York:20160801T193000
DTSTAMP:20260424T153241
CREATED:20160718T192231Z
LAST-MODIFIED:20160718T193547Z
UID:4542-1470074400-1470079800@osterhout.info
SUMMARY:Artist's Club
DESCRIPTION:Join artist’s of all skill levels to share ideas and work on your own projects. Light refreshments.
URL:https://osterhout.info/event/artists-club/
LOCATION:PA
CATEGORIES:Adults
END:VEVENT
BEGIN:VEVENT
DTSTART;TZID=America/New_York:20160801T180000
DTEND;TZID=America/New_York:20160801T193000
DTSTAMP:20260424T153241
CREATED:20160718T192231Z
LAST-MODIFIED:20160718T193547Z
UID:4542-1470074400-1470079800@osterhout.info
SUMMARY:Artist's Club
DESCRIPTION:Join artist’s of all skill levels to share ideas and work on your own projects. Light refreshments.
URL:https://osterhout.info/event/artists-club/
LOCATION:PA
CATEGORIES:Adults
END:VEVENT
END:VCALENDAR