BEGIN:VCALENDAR
VERSION:2.0
PRODID:-//Osterhout Free Library - ECPv6.15.20//NONSGML v1.0//EN
CALSCALE:GREGORIAN
METHOD:PUBLISH
X-WR-CALNAME:Osterhout Free Library
X-ORIGINAL-URL:https://osterhout.info
X-WR-CALDESC:Events for Osterhout Free Library
REFRESH-INTERVAL;VALUE=DURATION:PT1H
X-Robots-Tag:noindex
X-PUBLISHED-TTL:PT1H
BEGIN:VTIMEZONE
TZID:America/New_York
BEGIN:DAYLIGHT
TZOFFSETFROM:-0500
TZOFFSETTO:-0400
TZNAME:EDT
DTSTART:20150308T070000
END:DAYLIGHT
BEGIN:STANDARD
TZOFFSETFROM:-0400
TZOFFSETTO:-0500
TZNAME:EST
DTSTART:20151101T060000
END:STANDARD
BEGIN:DAYLIGHT
TZOFFSETFROM:-0500
TZOFFSETTO:-0400
TZNAME:EDT
DTSTART:20160313T070000
END:DAYLIGHT
BEGIN:STANDARD
TZOFFSETFROM:-0400
TZOFFSETTO:-0500
TZNAME:EST
DTSTART:20161106T060000
END:STANDARD
BEGIN:DAYLIGHT
TZOFFSETFROM:-0500
TZOFFSETTO:-0400
TZNAME:EDT
DTSTART:20170312T070000
END:DAYLIGHT
BEGIN:STANDARD
TZOFFSETFROM:-0400
TZOFFSETTO:-0500
TZNAME:EST
DTSTART:20171105T060000
END:STANDARD
END:VTIMEZONE
BEGIN:VEVENT
DTSTART;TZID=America/New_York:20161210T110000
DTEND;TZID=America/New_York:20161210T153000
DTSTAMP:20260423T092640
CREATED:20161205T164342Z
LAST-MODIFIED:20161205T164550Z
UID:5328-1481367600-1481383800@osterhout.info
SUMMARY:Tree  Decorating Party
DESCRIPTION:Join us anytime between 11 AM and 3:30PM  to make an ornament for our library tree and one to take home!
URL:https://osterhout.info/event/tree-decorating-party/
LOCATION:Osterhout Free Library – Central Branch\, 71 South Franklin Street\, Wilkes-Barre\, PA\, 18701\, United States
CATEGORIES:Youth
END:VEVENT
BEGIN:VEVENT
DTSTART;TZID=America/New_York:20160801T180000
DTEND;TZID=America/New_York:20160801T193000
DTSTAMP:20260423T092640
CREATED:20160718T192231Z
LAST-MODIFIED:20160718T193547Z
UID:4542-1470074400-1470079800@osterhout.info
SUMMARY:Artist's Club
DESCRIPTION:Join artist’s of all skill levels to share ideas and work on your own projects. Light refreshments.
URL:https://osterhout.info/event/artists-club/
LOCATION:PA
CATEGORIES:Adults
END:VEVENT
BEGIN:VEVENT
DTSTART;TZID=America/New_York:20160801T180000
DTEND;TZID=America/New_York:20160801T193000
DTSTAMP:20260423T092640
CREATED:20160718T192231Z
LAST-MODIFIED:20160718T193547Z
UID:4542-1470074400-1470079800@osterhout.info
SUMMARY:Artist's Club
DESCRIPTION:Join artist’s of all skill levels to share ideas and work on your own projects. Light refreshments.
URL:https://osterhout.info/event/artists-club/
LOCATION:PA
CATEGORIES:Adults
END:VEVENT
BEGIN:VEVENT
DTSTART;TZID=America/New_York:20160801T180000
DTEND;TZID=America/New_York:20160801T193000
DTSTAMP:20260423T092640
CREATED:20160718T192231Z
LAST-MODIFIED:20160718T193547Z
UID:4542-1470074400-1470079800@osterhout.info
SUMMARY:Artist's Club
DESCRIPTION:Join artist’s of all skill levels to share ideas and work on your own projects. Light refreshments.
URL:https://osterhout.info/event/artists-club/
LOCATION:PA
CATEGORIES:Adults
END:VEVENT
BEGIN:VEVENT
DTSTART;TZID=America/New_York:20160801T180000
DTEND;TZID=America/New_York:20160801T193000
DTSTAMP:20260423T092640
CREATED:20160718T192231Z
LAST-MODIFIED:20160718T193547Z
UID:4542-1470074400-1470079800@osterhout.info
SUMMARY:Artist's Club
DESCRIPTION:Join artist’s of all skill levels to share ideas and work on your own projects. Light refreshments.
URL:https://osterhout.info/event/artists-club/
LOCATION:PA
CATEGORIES:Adults
END:VEVENT
BEGIN:VEVENT
DTSTART;TZID=America/New_York:20161213T183000
DTEND;TZID=America/New_York:20161213T193000
DTSTAMP:20260423T092640
CREATED:20161122T124926Z
LAST-MODIFIED:20161122T124926Z
UID:5300-1481653800-1481657400@osterhout.info
SUMMARY:Carols & Cookies
DESCRIPTION:Sing Christmas songs and bring a dozen of your cookies for all to taste. Don’t forget the recipe to share.  Wear a holiday sweater and you could win a prize.
URL:https://osterhout.info/event/carols-cookies/
LOCATION:Osterhout Free Library – Central Branch\, 71 South Franklin Street\, Wilkes-Barre\, PA\, 18701\, United States
CATEGORIES:Adults
END:VEVENT
BEGIN:VEVENT
DTSTART;TZID=America/New_York:20161005T160000
DTEND;TZID=America/New_York:20161005T164500
DTSTAMP:20260423T092640
CREATED:20160929T185615Z
LAST-MODIFIED:20160929T195344Z
UID:5101-1475683200-1475685900@osterhout.info
SUMMARY:Story Time @ PLAINS Branch
DESCRIPTION:Join us for an after school story time from 4:00 to 4:45 each Wednesday at the Plains Branch of the Osterhout Free Library\, 126 North Main Street\, Plains. We open to a wide range of ages. \nFind us at the top of the hill inside the Plains Township Municipal Building. \nCall us or stop by. Our number is 570-824-1862.
URL:https://osterhout.info/event/story-time-at-plains-branch/
LOCATION:Osterhout Free Library – Plains Branch\, 126 North Main Street\, Plains\, PA\, 18705\, United States
CATEGORIES:Branches
END:VEVENT
BEGIN:VEVENT
DTSTART;TZID=America/New_York:20160921T180000
DTEND;TZID=America/New_York:20160921T193000
DTSTAMP:20260423T092640
CREATED:20160421T155739Z
LAST-MODIFIED:20160616T195006Z
UID:3472-1474480800-1474486200@osterhout.info
SUMMARY:Teen Night
DESCRIPTION:Every Wednesday night from 6-7:30pm in the Reading Room we have a Teen Night event. Come enjoy each week’s offering\, eat food\, make new friends and just relax. See you there!
URL:https://osterhout.info/event/teen-night-2016-06-01-2016-09-21/
LOCATION:Osterhout Free Library – Central Branch\, 71 South Franklin Street\, Wilkes-Barre\, PA\, 18701\, United States
CATEGORIES:Teens
ORGANIZER;CN="Osterhout Free Library Teens":MAILTO:oflteens@luzernelibraries.org
END:VEVENT
BEGIN:VEVENT
DTSTART;TZID=America/New_York:20160801T180000
DTEND;TZID=America/New_York:20160801T193000
DTSTAMP:20260423T092640
CREATED:20160718T192231Z
LAST-MODIFIED:20160718T193547Z
UID:4542-1470074400-1470079800@osterhout.info
SUMMARY:Artist's Club
DESCRIPTION:Join artist’s of all skill levels to share ideas and work on your own projects. Light refreshments.
URL:https://osterhout.info/event/artists-club/
LOCATION:PA
CATEGORIES:Adults
END:VEVENT
BEGIN:VEVENT
DTSTART;TZID=America/New_York:20161215T080000
DTEND;TZID=America/New_York:20161215T170000
DTSTAMP:20260423T092640
CREATED:20160511T182448Z
LAST-MODIFIED:20160511T185024Z
UID:3615-1481788800-1481821200@osterhout.info
SUMMARY:The Franklin Street Sleuths Book Discussion
DESCRIPTION:Lively book discussion every month. Light refreshments served.
URL:https://osterhout.info/event/franklin-street-sleuths-2016-12-15/
LOCATION:Osterhout Free Library – Central Branch\, 71 South Franklin Street\, Wilkes-Barre\, PA\, 18701\, United States
CATEGORIES:Adults
END:VEVENT
BEGIN:VEVENT
DTSTART;TZID=America/New_York:20161201T130000
DTEND;TZID=America/New_York:20161201T140000
DTSTAMP:20260423T092640
CREATED:20161025T143246Z
LAST-MODIFIED:20161025T143952Z
UID:5201-1480597200-1480600800@osterhout.info
SUMMARY:Laptotts
DESCRIPTION:Ages 3-5 years. See Flyer below for details.  Call 570-823-0156\, ext 217 to register.
URL:https://osterhout.info/event/laptotts-3/
LOCATION:Osterhout Free Library – Central Branch\, 71 South Franklin Street\, Wilkes-Barre\, PA\, 18701\, United States
CATEGORIES:Youth
END:VEVENT
BEGIN:VEVENT
DTSTART;TZID=America/New_York:20160801T180000
DTEND;TZID=America/New_York:20160801T193000
DTSTAMP:20260423T092640
CREATED:20160718T192231Z
LAST-MODIFIED:20160718T193547Z
UID:4542-1470074400-1470079800@osterhout.info
SUMMARY:Artist's Club
DESCRIPTION:Join artist’s of all skill levels to share ideas and work on your own projects. Light refreshments.
URL:https://osterhout.info/event/artists-club/
LOCATION:PA
CATEGORIES:Adults
END:VEVENT
BEGIN:VEVENT
DTSTART;TZID=America/New_York:20160513T140000
DTEND;TZID=America/New_York:20160513T140000
DTSTAMP:20260423T092640
CREATED:20160511T190942Z
LAST-MODIFIED:20160511T191418Z
UID:3639-1463148000-1463148000@osterhout.info
SUMMARY:Friday Movie Matinee
DESCRIPTION:Join us every Friday for a themed movie selection and popcorn. Yum!
URL:https://osterhout.info/event/friday-movie-matinee-4/
LOCATION:Osterhout Free Library – Central Branch\, 71 South Franklin Street\, Wilkes-Barre\, PA\, 18701\, United States
CATEGORIES:Adults
END:VEVENT
BEGIN:VEVENT
DTSTART;TZID=America/New_York:20160801T180000
DTEND;TZID=America/New_York:20160801T193000
DTSTAMP:20260423T092640
CREATED:20160718T192231Z
LAST-MODIFIED:20160718T193547Z
UID:4542-1470074400-1470079800@osterhout.info
SUMMARY:Artist's Club
DESCRIPTION:Join artist’s of all skill levels to share ideas and work on your own projects. Light refreshments.
URL:https://osterhout.info/event/artists-club/
LOCATION:PA
CATEGORIES:Adults
END:VEVENT
BEGIN:VEVENT
DTSTART;TZID=America/New_York:20161217T130000
DTEND;TZID=America/New_York:20161217T140000
DTSTAMP:20260423T092640
CREATED:20161212T192543Z
LAST-MODIFIED:20161216T045719Z
UID:5488-1481979600-1481983200@osterhout.info
SUMMARY:Canceled-Read to a Dog
DESCRIPTION:Program is canceled due to weather forecast.
URL:https://osterhout.info/event/read-to-a-dog-2/
LOCATION:Osterhout Free Library – Central Branch\, 71 South Franklin Street\, Wilkes-Barre\, PA\, 18701\, United States
CATEGORIES:Youth
END:VEVENT
BEGIN:VEVENT
DTSTART;TZID=America/New_York:20160801T180000
DTEND;TZID=America/New_York:20160801T193000
DTSTAMP:20260423T092640
CREATED:20160718T192231Z
LAST-MODIFIED:20160718T193547Z
UID:4542-1470074400-1470079800@osterhout.info
SUMMARY:Artist's Club
DESCRIPTION:Join artist’s of all skill levels to share ideas and work on your own projects. Light refreshments.
URL:https://osterhout.info/event/artists-club/
LOCATION:PA
CATEGORIES:Adults
END:VEVENT
BEGIN:VEVENT
DTSTART;TZID=America/New_York:20160801T180000
DTEND;TZID=America/New_York:20160801T193000
DTSTAMP:20260423T092640
CREATED:20160718T192231Z
LAST-MODIFIED:20160718T193547Z
UID:4542-1470074400-1470079800@osterhout.info
SUMMARY:Artist's Club
DESCRIPTION:Join artist’s of all skill levels to share ideas and work on your own projects. Light refreshments.
URL:https://osterhout.info/event/artists-club/
LOCATION:PA
CATEGORIES:Adults
END:VEVENT
BEGIN:VEVENT
DTSTART;TZID=America/New_York:20161219T180000
DTEND;TZID=America/New_York:20161219T190000
DTSTAMP:20260423T092640
CREATED:20161206T201052Z
LAST-MODIFIED:20161206T201052Z
UID:5439-1482170400-1482174000@osterhout.info
SUMMARY:Lego & Craft Night!
DESCRIPTION:LEGO & CRAFT NIGHT\nAT THE NORTH BRANCH\n \nMONDAY\, DECEMBER 19TH \n6:00 – 7:00 P.M. \nBUILD WITH LEGOS\, DO A CRAFT\, HAVE A SNACK AND GET A FREE R.I.F BOOK TO TAKE HOME. \nCOME JOIN THE FUN! \nCALL THE NORTH BRANCH AT 570-822-4660 \nAND RESERVE YOU PLACE FOR SOME FUN!! \nNORTH BRANCH\n28 OLIVER STREET\nPARSONS (W-B) 18705
URL:https://osterhout.info/event/lego-craft-night/
LOCATION:Osterhout Free Library – North Branch\, 28 Oliver Street\, Wilkes-Barre\, PA\, 18705\, United States
CATEGORIES:Branches
ORGANIZER;CN="Osterhout Free Library%2C North Branch":MAILTO:jaustin@luzernelibraries.org
END:VEVENT
BEGIN:VEVENT
DTSTART;TZID=America/New_York:20160801T180000
DTEND;TZID=America/New_York:20160801T193000
DTSTAMP:20260423T092640
CREATED:20160718T192231Z
LAST-MODIFIED:20160718T193547Z
UID:4542-1470074400-1470079800@osterhout.info
SUMMARY:Artist's Club
DESCRIPTION:Join artist’s of all skill levels to share ideas and work on your own projects. Light refreshments.
URL:https://osterhout.info/event/artists-club/
LOCATION:PA
CATEGORIES:Adults
END:VEVENT
BEGIN:VEVENT
DTSTART;TZID=America/New_York:20161220T133000
DTEND;TZID=America/New_York:20161220T143000
DTSTAMP:20260423T092640
CREATED:20161118T165130Z
LAST-MODIFIED:20161118T165130Z
UID:5270-1482240600-1482244200@osterhout.info
SUMMARY:Beginners Book Club
DESCRIPTION:
URL:https://osterhout.info/event/beginners-book-club/
LOCATION:Osterhout Free Library – Central Branch\, 71 South Franklin Street\, Wilkes-Barre\, PA\, 18701\, United States
CATEGORIES:Youth
END:VEVENT
BEGIN:VEVENT
DTSTART;TZID=America/New_York:20160801T180000
DTEND;TZID=America/New_York:20160801T193000
DTSTAMP:20260423T092640
CREATED:20160718T192231Z
LAST-MODIFIED:20160718T193547Z
UID:4542-1470074400-1470079800@osterhout.info
SUMMARY:Artist's Club
DESCRIPTION:Join artist’s of all skill levels to share ideas and work on your own projects. Light refreshments.
URL:https://osterhout.info/event/artists-club/
LOCATION:PA
CATEGORIES:Adults
END:VEVENT
BEGIN:VEVENT
DTSTART;TZID=America/New_York:20161005T160000
DTEND;TZID=America/New_York:20161005T164500
DTSTAMP:20260423T092640
CREATED:20160929T185615Z
LAST-MODIFIED:20160929T195344Z
UID:5101-1475683200-1475685900@osterhout.info
SUMMARY:Story Time @ PLAINS Branch
DESCRIPTION:Join us for an after school story time from 4:00 to 4:45 each Wednesday at the Plains Branch of the Osterhout Free Library\, 126 North Main Street\, Plains. We open to a wide range of ages. \nFind us at the top of the hill inside the Plains Township Municipal Building. \nCall us or stop by. Our number is 570-824-1862.
URL:https://osterhout.info/event/story-time-at-plains-branch/
LOCATION:Osterhout Free Library – Plains Branch\, 126 North Main Street\, Plains\, PA\, 18705\, United States
CATEGORIES:Branches
END:VEVENT
BEGIN:VEVENT
DTSTART;TZID=America/New_York:20160921T180000
DTEND;TZID=America/New_York:20160921T193000
DTSTAMP:20260423T092640
CREATED:20160421T155739Z
LAST-MODIFIED:20160616T195006Z
UID:3472-1474480800-1474486200@osterhout.info
SUMMARY:Teen Night
DESCRIPTION:Every Wednesday night from 6-7:30pm in the Reading Room we have a Teen Night event. Come enjoy each week’s offering\, eat food\, make new friends and just relax. See you there!
URL:https://osterhout.info/event/teen-night-2016-06-01-2016-09-21/
LOCATION:Osterhout Free Library – Central Branch\, 71 South Franklin Street\, Wilkes-Barre\, PA\, 18701\, United States
CATEGORIES:Teens
ORGANIZER;CN="Osterhout Free Library Teens":MAILTO:oflteens@luzernelibraries.org
END:VEVENT
BEGIN:VEVENT
DTSTART;TZID=America/New_York:20160801T180000
DTEND;TZID=America/New_York:20160801T193000
DTSTAMP:20260423T092640
CREATED:20160718T192231Z
LAST-MODIFIED:20160718T193547Z
UID:4542-1470074400-1470079800@osterhout.info
SUMMARY:Artist's Club
DESCRIPTION:Join artist’s of all skill levels to share ideas and work on your own projects. Light refreshments.
URL:https://osterhout.info/event/artists-club/
LOCATION:PA
CATEGORIES:Adults
END:VEVENT
BEGIN:VEVENT
DTSTART;TZID=America/New_York:20160801T180000
DTEND;TZID=America/New_York:20160801T193000
DTSTAMP:20260423T092640
CREATED:20160718T192231Z
LAST-MODIFIED:20160718T193547Z
UID:4542-1470074400-1470079800@osterhout.info
SUMMARY:Artist's Club
DESCRIPTION:Join artist’s of all skill levels to share ideas and work on your own projects. Light refreshments.
URL:https://osterhout.info/event/artists-club/
LOCATION:PA
CATEGORIES:Adults
END:VEVENT
BEGIN:VEVENT
DTSTART;TZID=America/New_York:20160513T140000
DTEND;TZID=America/New_York:20160513T140000
DTSTAMP:20260423T092640
CREATED:20160511T190942Z
LAST-MODIFIED:20160511T191418Z
UID:3639-1463148000-1463148000@osterhout.info
SUMMARY:Friday Movie Matinee
DESCRIPTION:Join us every Friday for a themed movie selection and popcorn. Yum!
URL:https://osterhout.info/event/friday-movie-matinee-4/
LOCATION:Osterhout Free Library – Central Branch\, 71 South Franklin Street\, Wilkes-Barre\, PA\, 18701\, United States
CATEGORIES:Adults
END:VEVENT
BEGIN:VEVENT
DTSTART;TZID=America/New_York:20160801T180000
DTEND;TZID=America/New_York:20160801T193000
DTSTAMP:20260423T092640
CREATED:20160718T192231Z
LAST-MODIFIED:20160718T193547Z
UID:4542-1470074400-1470079800@osterhout.info
SUMMARY:Artist's Club
DESCRIPTION:Join artist’s of all skill levels to share ideas and work on your own projects. Light refreshments.
URL:https://osterhout.info/event/artists-club/
LOCATION:PA
CATEGORIES:Adults
END:VEVENT
BEGIN:VEVENT
DTSTART;VALUE=DATE:20161224
DTEND;VALUE=DATE:20161225
DTSTAMP:20260423T092640
CREATED:20160610T132318Z
LAST-MODIFIED:20160610T132318Z
UID:4276-1482537600-1482623999@osterhout.info
SUMMARY:Christmas Eve - Closed
DESCRIPTION:In observance of the Christmas holiday\, the four locations of the library are closed.
URL:https://osterhout.info/event/christmas-eve-closed/
LOCATION:PA
END:VEVENT
BEGIN:VEVENT
DTSTART;TZID=America/New_York:20160801T180000
DTEND;TZID=America/New_York:20160801T193000
DTSTAMP:20260423T092640
CREATED:20160718T192231Z
LAST-MODIFIED:20160718T193547Z
UID:4542-1470074400-1470079800@osterhout.info
SUMMARY:Artist's Club
DESCRIPTION:Join artist’s of all skill levels to share ideas and work on your own projects. Light refreshments.
URL:https://osterhout.info/event/artists-club/
LOCATION:PA
CATEGORIES:Adults
END:VEVENT
BEGIN:VEVENT
DTSTART;TZID=America/New_York:20160801T180000
DTEND;TZID=America/New_York:20160801T193000
DTSTAMP:20260423T092640
CREATED:20160718T192231Z
LAST-MODIFIED:20160718T193547Z
UID:4542-1470074400-1470079800@osterhout.info
SUMMARY:Artist's Club
DESCRIPTION:Join artist’s of all skill levels to share ideas and work on your own projects. Light refreshments.
URL:https://osterhout.info/event/artists-club/
LOCATION:PA
CATEGORIES:Adults
END:VEVENT
END:VCALENDAR