BEGIN:VCALENDAR
VERSION:2.0
PRODID:-//Osterhout Free Library - ECPv6.15.20//NONSGML v1.0//EN
CALSCALE:GREGORIAN
METHOD:PUBLISH
X-ORIGINAL-URL:https://osterhout.info
X-WR-CALDESC:Events for Osterhout Free Library
REFRESH-INTERVAL;VALUE=DURATION:PT1H
X-Robots-Tag:noindex
X-PUBLISHED-TTL:PT1H
BEGIN:VTIMEZONE
TZID:America/New_York
BEGIN:DAYLIGHT
TZOFFSETFROM:-0500
TZOFFSETTO:-0400
TZNAME:EDT
DTSTART:20250309T070000
END:DAYLIGHT
BEGIN:STANDARD
TZOFFSETFROM:-0400
TZOFFSETTO:-0500
TZNAME:EST
DTSTART:20251102T060000
END:STANDARD
BEGIN:DAYLIGHT
TZOFFSETFROM:-0500
TZOFFSETTO:-0400
TZNAME:EDT
DTSTART:20260308T070000
END:DAYLIGHT
BEGIN:STANDARD
TZOFFSETFROM:-0400
TZOFFSETTO:-0500
TZNAME:EST
DTSTART:20261101T060000
END:STANDARD
BEGIN:DAYLIGHT
TZOFFSETFROM:-0500
TZOFFSETTO:-0400
TZNAME:EDT
DTSTART:20270314T070000
END:DAYLIGHT
BEGIN:STANDARD
TZOFFSETFROM:-0400
TZOFFSETTO:-0500
TZNAME:EST
DTSTART:20271107T060000
END:STANDARD
END:VTIMEZONE
BEGIN:VEVENT
DTSTART;TZID=America/New_York:20260507T183000
DTEND;TZID=America/New_York:20260507T193000
DTSTAMP:20260419T152937
CREATED:20260411T180532Z
LAST-MODIFIED:20260411T180532Z
UID:21040-1778178600-1778182200@osterhout.info
SUMMARY:Franklin Street Sleuths
DESCRIPTION:Join the Franklin Street Sleuths for our monthly mystery book discussion! \nThis month\, we will be discussing Lost Hills by Lee Goldberg. \nThis meeting will be held at the Osterhout Free Library North Branch on 28 Oliver Street\, Wilkes-Barre. \nFor more information\, please call the Information Services Department: 570-821-1959. \n  \nThe Franklin Street Sleuths are sponsored by Highmark\, the Friends of the Osterhout Free Library\, Pennsylvania American Water\, Kohanski & Company PC\, and the William G. McGowan Charitable Fund.
URL:https://osterhout.info/event/franklin-street-sleuths-26/
LOCATION:Osterhout Free Library – North Branch\, 28 Oliver Street\, Wilkes-Barre\, PA\, 18705\, United States
CATEGORIES:Adults
END:VEVENT
BEGIN:VEVENT
DTSTART;TZID=America/New_York:20260527T170000
DTEND;TZID=America/New_York:20260527T183000
DTSTAMP:20260419T152937
CREATED:20260409T181231Z
LAST-MODIFIED:20260409T181231Z
UID:21025-1779901200-1779906600@osterhout.info
SUMMARY:Bookish Banter: Teen Book Club
DESCRIPTION:Bookish Banter: Teen Book Club\nLooking for a fun way to talk about your latest reads? Join our Bookish Banter Teen Book Club at the Osterhout Free Library! 📖✨Read\, discuss\, and swap book recommendations with other teens each month. No assigned reading—just great conversations. Come share what you’re reading\, watching\, playing or creating. We’re open to all topics. \n📅 Wednesday\, May 27\, 2026🕔 5:00 – 6:30 PM📍 3rd Floor Meeting Room \nWalk – ins welcome! Snacks and drinks served. Bring a friend!
URL:https://osterhout.info/event/bookish-banter-teen-book-club-12/
LOCATION:Osterhout Free Library – Central Branch\, 71 South Franklin Street\, Wilkes-Barre\, PA\, 18701\, United States
CATEGORIES:Teens
ORGANIZER;CN="Osterhout Free Library Teens":MAILTO:oflteens@luzernelibraries.org
END:VEVENT
END:VCALENDAR