BEGIN:VCALENDAR
VERSION:2.0
PRODID:-//Osterhout Free Library - ECPv6.15.20//NONSGML v1.0//EN
CALSCALE:GREGORIAN
METHOD:PUBLISH
X-WR-CALNAME:Osterhout Free Library
X-ORIGINAL-URL:https://osterhout.info
X-WR-CALDESC:Events for Osterhout Free Library
REFRESH-INTERVAL;VALUE=DURATION:PT1H
X-Robots-Tag:noindex
X-PUBLISHED-TTL:PT1H
BEGIN:VTIMEZONE
TZID:America/New_York
BEGIN:DAYLIGHT
TZOFFSETFROM:-0500
TZOFFSETTO:-0400
TZNAME:EDT
DTSTART:20180311T070000
END:DAYLIGHT
BEGIN:STANDARD
TZOFFSETFROM:-0400
TZOFFSETTO:-0500
TZNAME:EST
DTSTART:20181104T060000
END:STANDARD
BEGIN:DAYLIGHT
TZOFFSETFROM:-0500
TZOFFSETTO:-0400
TZNAME:EDT
DTSTART:20190310T070000
END:DAYLIGHT
BEGIN:STANDARD
TZOFFSETFROM:-0400
TZOFFSETTO:-0500
TZNAME:EST
DTSTART:20191103T060000
END:STANDARD
BEGIN:DAYLIGHT
TZOFFSETFROM:-0500
TZOFFSETTO:-0400
TZNAME:EDT
DTSTART:20200308T070000
END:DAYLIGHT
BEGIN:STANDARD
TZOFFSETFROM:-0400
TZOFFSETTO:-0500
TZNAME:EST
DTSTART:20201101T060000
END:STANDARD
END:VTIMEZONE
BEGIN:VEVENT
DTSTART;TZID=America/New_York:20190802T170000
DTEND;TZID=America/New_York:20190802T200000
DTSTAMP:20260423T175416
CREATED:20190109T211337Z
LAST-MODIFIED:20190109T212701Z
UID:10911-1564765200-1564776000@osterhout.info
SUMMARY:11th Annual Brewsterhout Rooftop Party
DESCRIPTION:The Brewsterhout Party is back! Join us Friday\, August 2nd\, from 5-8 PM on the top level of the Intermodal Center in Downtown Wilkes-Barre. It happens Rain or Shine (we prefer Shine\, but we just drop down a level if Mother Nature doesn’t cooperate). \nThe 11th Annual Brewsterhout Rooftop Party is a fundraiser for the Osterhout Free Library\, the city’s public library. We need community support such as yours to maintain the library and to continue providing important programs and services for adults and children alike. \nCatch up with friends\, listen to great music\, sample local food and drinks\, and meet with hundreds of local party-goers! You can also take chances on a terrific Basket Raffle with tons of great prizes. \nContact Chris Kelly at 570.823.0156 x 218 or ckelly@luzernelibraries.org with questions.
URL:https://osterhout.info/event/11th-annual-brewsterhout-rooftop-party/
LOCATION:Osterhout Free Library – Central Branch\, 71 South Franklin Street\, Wilkes-Barre\, PA\, 18701\, United States
CATEGORIES:Fundraising
END:VEVENT
END:VCALENDAR