BEGIN:VCALENDAR
VERSION:2.0
PRODID:-//Osterhout Free Library - ECPv6.15.20//NONSGML v1.0//EN
CALSCALE:GREGORIAN
METHOD:PUBLISH
X-ORIGINAL-URL:https://osterhout.info
X-WR-CALDESC:Events for Osterhout Free Library
REFRESH-INTERVAL;VALUE=DURATION:PT1H
X-Robots-Tag:noindex
X-PUBLISHED-TTL:PT1H
BEGIN:VTIMEZONE
TZID:America/New_York
BEGIN:DAYLIGHT
TZOFFSETFROM:-0500
TZOFFSETTO:-0400
TZNAME:EDT
DTSTART:20210314T070000
END:DAYLIGHT
BEGIN:STANDARD
TZOFFSETFROM:-0400
TZOFFSETTO:-0500
TZNAME:EST
DTSTART:20211107T060000
END:STANDARD
BEGIN:DAYLIGHT
TZOFFSETFROM:-0500
TZOFFSETTO:-0400
TZNAME:EDT
DTSTART:20220313T070000
END:DAYLIGHT
BEGIN:STANDARD
TZOFFSETFROM:-0400
TZOFFSETTO:-0500
TZNAME:EST
DTSTART:20221106T060000
END:STANDARD
BEGIN:DAYLIGHT
TZOFFSETFROM:-0500
TZOFFSETTO:-0400
TZNAME:EDT
DTSTART:20230312T070000
END:DAYLIGHT
BEGIN:STANDARD
TZOFFSETFROM:-0400
TZOFFSETTO:-0500
TZNAME:EST
DTSTART:20231105T060000
END:STANDARD
END:VTIMEZONE
BEGIN:VEVENT
DTSTART;TZID=America/New_York:20220507T103000
DTEND;TZID=America/New_York:20220507T120000
DTSTAMP:20260423T092620
CREATED:20220413T195026Z
LAST-MODIFIED:20220413T195026Z
UID:15564-1651919400-1651924800@osterhout.info
SUMMARY:One More Row: Knit and Crochet Group
DESCRIPTION:Everyone is welcome! Knit\, crochet\, and share tips and ideas.
URL:https://osterhout.info/event/one-more-row-knit-and-crochet-group-3/
LOCATION:Osterhout Free Library – Central Branch\, 71 South Franklin Street\, Wilkes-Barre\, PA\, 18701\, United States
CATEGORIES:Adults
END:VEVENT
BEGIN:VEVENT
DTSTART;TZID=America/New_York:20220507T103000
DTEND;TZID=America/New_York:20220507T120000
DTSTAMP:20260423T092620
CREATED:20220413T195026Z
LAST-MODIFIED:20220413T195026Z
UID:15564-1651919400-1651924800@osterhout.info
SUMMARY:One More Row: Knit and Crochet Group
DESCRIPTION:Everyone is welcome! Knit\, crochet\, and share tips and ideas.
URL:https://osterhout.info/event/one-more-row-knit-and-crochet-group-3/
LOCATION:Osterhout Free Library – Central Branch\, 71 South Franklin Street\, Wilkes-Barre\, PA\, 18701\, United States
CATEGORIES:Adults
END:VEVENT
END:VCALENDAR