BEGIN:VCALENDAR
VERSION:2.0
PRODID:-//Osterhout Free Library - ECPv6.15.20//NONSGML v1.0//EN
CALSCALE:GREGORIAN
METHOD:PUBLISH
X-WR-CALNAME:Osterhout Free Library
X-ORIGINAL-URL:https://osterhout.info
X-WR-CALDESC:Events for Osterhout Free Library
REFRESH-INTERVAL;VALUE=DURATION:PT1H
X-Robots-Tag:noindex
X-PUBLISHED-TTL:PT1H
BEGIN:VTIMEZONE
TZID:America/New_York
BEGIN:DAYLIGHT
TZOFFSETFROM:-0500
TZOFFSETTO:-0400
TZNAME:EDT
DTSTART:20160313T070000
END:DAYLIGHT
BEGIN:STANDARD
TZOFFSETFROM:-0400
TZOFFSETTO:-0500
TZNAME:EST
DTSTART:20161106T060000
END:STANDARD
BEGIN:DAYLIGHT
TZOFFSETFROM:-0500
TZOFFSETTO:-0400
TZNAME:EDT
DTSTART:20170312T070000
END:DAYLIGHT
BEGIN:STANDARD
TZOFFSETFROM:-0400
TZOFFSETTO:-0500
TZNAME:EST
DTSTART:20171105T060000
END:STANDARD
BEGIN:DAYLIGHT
TZOFFSETFROM:-0500
TZOFFSETTO:-0400
TZNAME:EDT
DTSTART:20180311T070000
END:DAYLIGHT
BEGIN:STANDARD
TZOFFSETFROM:-0400
TZOFFSETTO:-0500
TZNAME:EST
DTSTART:20181104T060000
END:STANDARD
END:VTIMEZONE
BEGIN:VEVENT
DTSTART;TZID=America/New_York:20170519T180000
DTEND;TZID=America/New_York:20170519T193000
DTSTAMP:20260420T105026
CREATED:20170407T171248Z
LAST-MODIFIED:20170407T171248Z
UID:6748-1495216800-1495222200@osterhout.info
SUMMARY:Word Fountain Launch Party\, Spring-Summer Issue
DESCRIPTION:Word Fountain\, the Literary Magazine of the Osterhout Free Library will be launching our Spring-Summer issue with a reading and light refreshments in the Reading Room of our Central Branch at 71 S. Franklin Street in Wilkes-Barre\, PA. \nTime: 6:00 pm \nLocation: Reading Room\, 71 South Franklin St. Wilkes-Barre\, PA 18701 \n \nFor more information you can follow Word Fountain on the WordFoutain.net website or on Facebook. You can also find us on Twitter @OFLWordFountain.
URL:https://osterhout.info/event/word-fountain-launch-party-spring-summer-issue/
LOCATION:Osterhout Free Library – Central Branch\, 71 South Franklin Street\, Wilkes-Barre\, PA\, 18701\, United States
CATEGORIES:Adults
END:VEVENT
END:VCALENDAR